BEGIN:VCALENDAR
VERSION:2.0
PRODID:-//Lakewood UCC - ECPv6.15.13//NONSGML v1.0//EN
CALSCALE:GREGORIAN
METHOD:PUBLISH
X-ORIGINAL-URL:https://www.lakewooducc.com
X-WR-CALDESC:Events for Lakewood UCC
REFRESH-INTERVAL;VALUE=DURATION:PT1H
X-Robots-Tag:noindex
X-PUBLISHED-TTL:PT1H
BEGIN:VTIMEZONE
TZID:America/Denver
BEGIN:DAYLIGHT
TZOFFSETFROM:-0700
TZOFFSETTO:-0600
TZNAME:MDT
DTSTART:20180311T090000
END:DAYLIGHT
BEGIN:STANDARD
TZOFFSETFROM:-0600
TZOFFSETTO:-0700
TZNAME:MST
DTSTART:20181104T080000
END:STANDARD
BEGIN:DAYLIGHT
TZOFFSETFROM:-0700
TZOFFSETTO:-0600
TZNAME:MDT
DTSTART:20190310T090000
END:DAYLIGHT
BEGIN:STANDARD
TZOFFSETFROM:-0600
TZOFFSETTO:-0700
TZNAME:MST
DTSTART:20191103T080000
END:STANDARD
BEGIN:DAYLIGHT
TZOFFSETFROM:-0700
TZOFFSETTO:-0600
TZNAME:MDT
DTSTART:20200308T090000
END:DAYLIGHT
BEGIN:STANDARD
TZOFFSETFROM:-0600
TZOFFSETTO:-0700
TZNAME:MST
DTSTART:20201101T080000
END:STANDARD
END:VTIMEZONE
BEGIN:VEVENT
DTSTART;TZID=America/Denver:20190112T090000
DTEND;TZID=America/Denver:20190112T100000
DTSTAMP:20260422T051408
CREATED:20171217T152410Z
LAST-MODIFIED:20190107T182740Z
UID:2946-1547283600-1547287200@www.lakewooducc.com
SUMMARY:Men's Breakfast
DESCRIPTION:Our Men’s Ministry breakfast is an easy and fun way to get to know some of the other guys in the church. The second Saturday of every month we gather at a local restaurant for breakfast to chat and deepen our relationships in a casual setting. We hope that you will plan on joining us. Restaurant: The Valley Inn\, 1997 S Wadsworth in Lakewood. Questions? Contact Daryl Foelske.
URL:https://www.lakewooducc.com/event/mens-breakfast-15/
LOCATION:Lakewood United Church of Christ\, 100 Carr Street\, Lakewood\, CO\, 80226\, United States
END:VEVENT
END:VCALENDAR