BEGIN:VCALENDAR
VERSION:2.0
PRODID:-//Lakewood UCC - ECPv6.15.13//NONSGML v1.0//EN
CALSCALE:GREGORIAN
METHOD:PUBLISH
X-WR-CALNAME:Lakewood UCC
X-ORIGINAL-URL:https://www.lakewooducc.com
X-WR-CALDESC:Events for Lakewood UCC
REFRESH-INTERVAL;VALUE=DURATION:PT1H
X-Robots-Tag:noindex
X-PUBLISHED-TTL:PT1H
BEGIN:VTIMEZONE
TZID:America/Denver
BEGIN:DAYLIGHT
TZOFFSETFROM:-0700
TZOFFSETTO:-0600
TZNAME:MDT
DTSTART:20240310T090000
END:DAYLIGHT
BEGIN:STANDARD
TZOFFSETFROM:-0600
TZOFFSETTO:-0700
TZNAME:MST
DTSTART:20241103T080000
END:STANDARD
BEGIN:DAYLIGHT
TZOFFSETFROM:-0700
TZOFFSETTO:-0600
TZNAME:MDT
DTSTART:20250309T090000
END:DAYLIGHT
BEGIN:STANDARD
TZOFFSETFROM:-0600
TZOFFSETTO:-0700
TZNAME:MST
DTSTART:20251102T080000
END:STANDARD
BEGIN:DAYLIGHT
TZOFFSETFROM:-0700
TZOFFSETTO:-0600
TZNAME:MDT
DTSTART:20260308T090000
END:DAYLIGHT
BEGIN:STANDARD
TZOFFSETFROM:-0600
TZOFFSETTO:-0700
TZNAME:MST
DTSTART:20261101T080000
END:STANDARD
END:VTIMEZONE
BEGIN:VEVENT
DTSTART;TZID=America/Denver:20251207T113000
DTEND;TZID=America/Denver:20251207T123000
DTSTAMP:20260424T134744
CREATED:20251126T193246Z
LAST-MODIFIED:20251126T193246Z
UID:12016-1765107000-1765110600@www.lakewooducc.com
SUMMARY:Incredible Edibles and Heifer International in Person!
DESCRIPTION:SAVE THE DATE! Incredible Edibles is back on Sunday\, December 7. It’s that time of year again-Incredible Edibles bake sale led by those wonderful sisters: Janet Hehr\, Linda Royval.  Who benefits from the Proceeds? The Action Center is a non-profit organization that provides a continuum of services for people facing challenges. Their services include\, but are not limited to\, free food and clothing\, financial assistance\, and family services.  How do you participate? Besides shopping on December 7\, we encourage you to bring nicely presented baked goods that will sell! Presentation is important and as Janet likes to say….Bring your A game.\n\nHeifer International Donations In-Person on Sunday\, December 7\, at 11:30 am. Because of Lakewood UCC’s long-standing tradition of donating to Heifer International\, Glenda Bobby will once again be receiving donations after church on December 7 in the Fellowship Hall. If you are wondering what you can do this Christmas to help people throughout the world\, this is your chance. You can give a share of an animal or the whole animal to a needy family\, but much more is available. You can also give a gift of clean water\, biogas stoves\, a family solar kit\, or send a girl to school. Please stop by the Heifer table to find out more. You will receive credit for your donation through your Breeze account.  Cash or checks will be accepted\, but no credit cards. There will also be holiday cards available for you to donate in someone’s honor. What a great gift for that person in your life who has everything\, a wonderfully meaningful gift for a friend or relative!
URL:https://www.lakewooducc.com/event/incredible-edibles-and-heifer-international-in-person/
END:VEVENT
BEGIN:VEVENT
DTSTART;TZID=America/Denver:20251207T140000
DTEND;TZID=America/Denver:20251207T150000
DTSTAMP:20260424T134744
CREATED:20251203T170003Z
LAST-MODIFIED:20251203T170003Z
UID:12027-1765116000-1765119600@www.lakewooducc.com
SUMMARY:NoEnemies Song Circle
DESCRIPTION:Join NoEnemies monthly song circle\, which is being held at Lakewood United Church of Christ this December. These monthly gatherings are an opportunity to raise our voices\, learn simple chants and song verses. NoEnemies is not an organization or political party\, but a space we create together\, share songs\, and practice our power. Questions? Contact nancy.gruschow@outlook.com.
URL:https://www.lakewooducc.com/event/noenemies-song-circle/
END:VEVENT
BEGIN:VEVENT
DTSTART;TZID=America/Denver:20251209T190000
DTEND;TZID=America/Denver:20251209T200000
DTSTAMP:20260424T134744
CREATED:20251203T165911Z
LAST-MODIFIED:20251203T165911Z
UID:12025-1765306800-1765310400@www.lakewooducc.com
SUMMARY:Blue Christmas Service 2025
DESCRIPTION:The holidays and Christmas in particular can be a difficult time of year to find the space to feel emotions other than joy & cheer. Grief and pain know no season. Join us for the Blue Christmas Service on Tuesday\, December 9\, at 7:00 pm. We will gather in person only to hold space for grief\, uncertainty\, and the fullness of what we may be carrying this season. Please see one of the Pastors for additional support or resources.
URL:https://www.lakewooducc.com/event/blue-christmas-service-2025/
END:VEVENT
BEGIN:VEVENT
DTSTART;TZID=America/Denver:20251216T180000
DTEND;TZID=America/Denver:20251216T200000
DTSTAMP:20260424T134744
CREATED:20230918T172918Z
LAST-MODIFIED:20260121T162728Z
UID:10754-1765908000-1765915200@www.lakewooducc.com
SUMMARY:Delores Project in January
DESCRIPTION:Please join us on Thursday\, January 22\, and serve at the Delores Project. This month\, we are serving dinner. We will collect food in the church parking lot at 6:00 pm\, have servers arrive at Delores Project at 6:30 pm\, and serve at 7:00 pm. We need food contributions as well.\nThe menu is as follows:\n\n 	Chile Con Carne with Shredded Cheese\n 	Corn Muffins\n 	Brownies with Vanilla Ice Cream\n\nYou can sign up to serve the meal this month with the link HERE and get recipes by clicking on the items above. For questions\, please contact Pauline Nunez at paulinenunez40@gmail.com or Joan Campbell at joanvilshofen@gmail.com.
URL:https://www.lakewooducc.com/event/delores-project-in-september/
END:VEVENT
BEGIN:VEVENT
DTSTART;TZID=America/Denver:20251224T160000
DTEND;TZID=America/Denver:20251224T170000
DTSTAMP:20260424T134744
CREATED:20251217T185515Z
LAST-MODIFIED:20251217T185515Z
UID:12046-1766592000-1766595600@www.lakewooducc.com
SUMMARY:Messy Pageant Multi-Generational Service
DESCRIPTION:Join us for this all-age service on Christmas Eve. Together with song and scripture\, costumes and collaboration\, we will tell the story of Christ’s birth through our Messy Pageant. No rehearsals\, costumes\, or story provided (and other costumes are welcome). Participation is by choice\, as we share the joy of the story of God-with-us. Childcare will be available during this service.
URL:https://www.lakewooducc.com/event/messy-pageant-multi-generational-service/
END:VEVENT
BEGIN:VEVENT
DTSTART;TZID=America/Denver:20251224T160000
DTEND;TZID=America/Denver:20251224T200000
DTSTAMP:20260424T134744
CREATED:20251210T180615Z
LAST-MODIFIED:20251210T180615Z
UID:12037-1766592000-1766606400@www.lakewooducc.com
SUMMARY:Christmas at Lakewood UCC!
DESCRIPTION:Messy Pageant Christmas Eve: Wednesday\, December 24\, 4:00 pm\nJoin us for this all-age service on Christmas Eve. Together with song and scripture\, costumes and collaboration\, we will tell the story of Christ’s birth through our Insta Pageant. No rehearsals\, costumes\, or story provided (and other costumes are welcome). Participation is by choice\, as we share the joy of the story of God-with-us. Childcare will be available during this service.\n\nCarols and Christmas Eve: Wednesday\, December 24\, 7:00 pm \nJoin us on Christmas Eve at 7:00 pm for pre-service music\, with the worship service starting at 7:30 pm. Together\, with songs\, scripture\, and prayers\, we hear and celebrate the story of Christ’s birth. The service ends in the sharing of the Christ-light with one another and an invitation to take the light into the world. We hope to see you there\, in-person or online!
URL:https://www.lakewooducc.com/event/christmas-at-lakewood-ucc/
END:VEVENT
BEGIN:VEVENT
DTSTART;TZID=America/Denver:20251224T190000
DTEND;TZID=America/Denver:20251224T203000
DTSTAMP:20260424T134744
CREATED:20251217T185637Z
LAST-MODIFIED:20251217T185637Z
UID:12049-1766602800-1766608200@www.lakewooducc.com
SUMMARY:Candlelight Christmas Eve Service
DESCRIPTION:Join us on Christmas Eve at 7:00 pm for pre-service music\, with the worship service starting at 7:30 pm. Together\, with songs\, scripture\, and prayers\, we hear and celebrate the story of Christ’s birth. The service ends in the sharing of the Christ-light with one another and an invitation to take the light into the world. Childcare is available for this service! We hope to see you there\, in-person or online!
URL:https://www.lakewooducc.com/event/candlelight-christmas-eve-service/
END:VEVENT
END:VCALENDAR