BEGIN:VCALENDAR
VERSION:2.0
PRODID:-//Lakewood UCC - ECPv6.15.13//NONSGML v1.0//EN
CALSCALE:GREGORIAN
METHOD:PUBLISH
X-ORIGINAL-URL:https://www.lakewooducc.com
X-WR-CALDESC:Events for Lakewood UCC
REFRESH-INTERVAL;VALUE=DURATION:PT1H
X-Robots-Tag:noindex
X-PUBLISHED-TTL:PT1H
BEGIN:VTIMEZONE
TZID:America/Denver
BEGIN:DAYLIGHT
TZOFFSETFROM:-0700
TZOFFSETTO:-0600
TZNAME:MDT
DTSTART:20240310T090000
END:DAYLIGHT
BEGIN:STANDARD
TZOFFSETFROM:-0600
TZOFFSETTO:-0700
TZNAME:MST
DTSTART:20241103T080000
END:STANDARD
BEGIN:DAYLIGHT
TZOFFSETFROM:-0700
TZOFFSETTO:-0600
TZNAME:MDT
DTSTART:20250309T090000
END:DAYLIGHT
BEGIN:STANDARD
TZOFFSETFROM:-0600
TZOFFSETTO:-0700
TZNAME:MST
DTSTART:20251102T080000
END:STANDARD
BEGIN:DAYLIGHT
TZOFFSETFROM:-0700
TZOFFSETTO:-0600
TZNAME:MDT
DTSTART:20260308T090000
END:DAYLIGHT
BEGIN:STANDARD
TZOFFSETFROM:-0600
TZOFFSETTO:-0700
TZNAME:MST
DTSTART:20261101T080000
END:STANDARD
END:VTIMEZONE
BEGIN:VEVENT
DTSTART;TZID=America/Denver:20250809T090000
DTEND;TZID=America/Denver:20250809T110000
DTSTAMP:20260425T053458
CREATED:20250702T162719Z
LAST-MODIFIED:20250730T181240Z
UID:11793-1754730000-1754737200@www.lakewooducc.com
SUMMARY:Men's Breakfast in August
DESCRIPTION:We will gather at Sunrise Sunset (1424 S. Wadsworth\, right next to the Goodwill)\, at 9:00 am on Saturday\, August 9. This is a time of casual conversation with no particular agenda. Any and all are welcome! Questions? Contact Daryl Foelske or Curt Preston.
URL:https://www.lakewooducc.com/event/mens-breakfast-in-july/
END:VEVENT
BEGIN:VEVENT
DTSTART;TZID=America/Denver:20250817T100000
DTEND;TZID=America/Denver:20250817T113000
DTSTAMP:20260425T053458
CREATED:20250801T152630Z
LAST-MODIFIED:20250812T164340Z
UID:11845-1755424800-1755430200@www.lakewooducc.com
SUMMARY:Worship in the Park
DESCRIPTION:Please join us for our very special Worship in the Park service on Sunday\, August 17\, at 10:15 am! On this Sunday\, there will NOT be any services at Lakewood UCC. We will meet at the pavilion at Prospect Park (44th Ave. & Robb St. in Wheat Ridge). Our special guest musician this year will be the former Director of Music Ministries\, Allyson Koplen. Please feel free to bring a picnic lunch and a camping chair if you’d like. Join us for a special Root Beer Float Fellowship after the service! Childcare will be available for those who need it. We hope to see you there!
URL:https://www.lakewooducc.com/event/worship-in-the-park-8/
END:VEVENT
BEGIN:VEVENT
DTSTART;TZID=America/Denver:20250831T100000
DTEND;TZID=America/Denver:20250831T113000
DTSTAMP:20260425T053458
CREATED:20250825T152705Z
LAST-MODIFIED:20250825T152705Z
UID:11888-1756634400-1756639800@www.lakewooducc.com
SUMMARY:Taize Style Special Service
DESCRIPTION:Sunday\, August 31\, will be our Taizé-style worship service. What is Taizé-style worship? The Taizé community is an ecumenical monastic order in southern France founded in 1940. Taizé worship is known for its simplicity of style. It uses short phrases\, sung repeatedly\, and periods of silence to draw us into the experience of finding God’s presence where we are. One Taizé monk said\, “It is a time to rest in God\, to let the words listened to and sung penetrate one’s being.”
URL:https://www.lakewooducc.com/event/taize-style-special-service/
END:VEVENT
END:VCALENDAR