BEGIN:VCALENDAR
VERSION:2.0
PRODID:-//Lakewood UCC - ECPv6.15.13//NONSGML v1.0//EN
CALSCALE:GREGORIAN
METHOD:PUBLISH
X-WR-CALNAME:Lakewood UCC
X-ORIGINAL-URL:https://www.lakewooducc.com
X-WR-CALDESC:Events for Lakewood UCC
REFRESH-INTERVAL;VALUE=DURATION:PT1H
X-Robots-Tag:noindex
X-PUBLISHED-TTL:PT1H
BEGIN:VTIMEZONE
TZID:America/Denver
BEGIN:DAYLIGHT
TZOFFSETFROM:-0700
TZOFFSETTO:-0600
TZNAME:MDT
DTSTART:20240310T090000
END:DAYLIGHT
BEGIN:STANDARD
TZOFFSETFROM:-0600
TZOFFSETTO:-0700
TZNAME:MST
DTSTART:20241103T080000
END:STANDARD
BEGIN:DAYLIGHT
TZOFFSETFROM:-0700
TZOFFSETTO:-0600
TZNAME:MDT
DTSTART:20250309T090000
END:DAYLIGHT
BEGIN:STANDARD
TZOFFSETFROM:-0600
TZOFFSETTO:-0700
TZNAME:MST
DTSTART:20251102T080000
END:STANDARD
BEGIN:DAYLIGHT
TZOFFSETFROM:-0700
TZOFFSETTO:-0600
TZNAME:MDT
DTSTART:20260308T090000
END:DAYLIGHT
BEGIN:STANDARD
TZOFFSETFROM:-0600
TZOFFSETTO:-0700
TZNAME:MST
DTSTART:20261101T080000
END:STANDARD
END:VTIMEZONE
BEGIN:VEVENT
DTSTART;TZID=America/Denver:20250608T120000
DTEND;TZID=America/Denver:20250608T130000
DTSTAMP:20260425T053013
CREATED:20250528T164330Z
LAST-MODIFIED:20250528T164330Z
UID:11741-1749384000-1749387600@www.lakewooducc.com
SUMMARY:Annual Meeting
DESCRIPTION:Save the date for our Annual Meeting on Sunday\, June 8\, following worship. The primary purpose of this Annual Meeting is to vote on the slate of officers for the next 12 months. Additionally\, we will renew our Open and Affirming Covenant (now done yearly)\, remember those no longer with us\, and see a joyful year in review. Please plan to attend to ensure we meet our quorum numbers.\n\nChildcare will be provided\, please sign up HERE to give us a sense of the number of kids and ages.
URL:https://www.lakewooducc.com/event/annual-meeting-2/
END:VEVENT
BEGIN:VEVENT
DTSTART;TZID=America/Denver:20250615T113000
DTEND;TZID=America/Denver:20250615T123000
DTSTAMP:20260425T053013
CREATED:20250611T203308Z
LAST-MODIFIED:20250611T203308Z
UID:11766-1749987000-1749990600@www.lakewooducc.com
SUMMARY:Lakewood UCC Book Group in June
DESCRIPTION:On June 15\, the Lakewood UCC Book Group will be discussing The Book of Lost Friends by Lisa Wingate. This is a “dramatic historical novel of three young women searching for family amid the destruction of the post-Civil War South\, and a modern teacher who learns of their story and its vital connection to her students’ lives.” -NY Times. We hope to see you there!
URL:https://www.lakewooducc.com/event/lakewood-ucc-book-group-in-june/
END:VEVENT
BEGIN:VEVENT
DTSTART;TZID=America/Denver:20250625T183000
DTEND;TZID=America/Denver:20250625T203000
DTSTAMP:20260425T053013
CREATED:20250618T170207Z
LAST-MODIFIED:20250618T170207Z
UID:11776-1750876200-1750883400@www.lakewooducc.com
SUMMARY:Together Colorado Immigration 101 Seminar
DESCRIPTION:You’re Invited! Jefferson Unitarian Church\, one of our *Together Colorado partners\, is offering: IMMIGRATION 101: A seminar to learn about: Federal and state immigration policies\, the “real” immigrant experience\, and ways to get involved in protecting immigrants in our communities. This event will be held on Wednesday\, June 25\, from 6:30 to 8:30 pm at Jefferson Unitarian Church (14350 W. 32nd Ave.\, Golden 80401). This seminar is free and open to the public. We hope to see you there!\n*Together Colorado is a nonpartisan and multi-faith community organization working to place human dignity at the center of public life in Colorado.
URL:https://www.lakewooducc.com/event/together-colorado-immigration-101-seminar/
END:VEVENT
BEGIN:VEVENT
DTSTART;TZID=America/Denver:20250630T140000
DTEND;TZID=America/Denver:20250630T153000
DTSTAMP:20260425T053013
CREATED:20250423T163802Z
LAST-MODIFIED:20250618T170057Z
UID:11695-1751292000-1751297400@www.lakewooducc.com
SUMMARY:Aging Well in June
DESCRIPTION:Our Aging Well ministry typically meets on the 4th Monday of the month at 2:00 pm. Due to no meeting happening last month in May\, we will meet two times in June: Monday\, June 9 at 2:00 pm\, and again on Monday\, June 30\, at 2:00 pm. We will be taking off in July and August. If you have questions\, please contact Pastor Curt.
URL:https://www.lakewooducc.com/event/aging-well-in-april/
END:VEVENT
END:VCALENDAR