BEGIN:VCALENDAR
VERSION:2.0
PRODID:-//Lakewood UCC - ECPv6.15.13//NONSGML v1.0//EN
CALSCALE:GREGORIAN
METHOD:PUBLISH
X-ORIGINAL-URL:https://www.lakewooducc.com
X-WR-CALDESC:Events for Lakewood UCC
REFRESH-INTERVAL;VALUE=DURATION:PT1H
X-Robots-Tag:noindex
X-PUBLISHED-TTL:PT1H
BEGIN:VTIMEZONE
TZID:America/Denver
BEGIN:DAYLIGHT
TZOFFSETFROM:-0700
TZOFFSETTO:-0600
TZNAME:MDT
DTSTART:20240310T090000
END:DAYLIGHT
BEGIN:STANDARD
TZOFFSETFROM:-0600
TZOFFSETTO:-0700
TZNAME:MST
DTSTART:20241103T080000
END:STANDARD
BEGIN:DAYLIGHT
TZOFFSETFROM:-0700
TZOFFSETTO:-0600
TZNAME:MDT
DTSTART:20250309T090000
END:DAYLIGHT
BEGIN:STANDARD
TZOFFSETFROM:-0600
TZOFFSETTO:-0700
TZNAME:MST
DTSTART:20251102T080000
END:STANDARD
BEGIN:DAYLIGHT
TZOFFSETFROM:-0700
TZOFFSETTO:-0600
TZNAME:MDT
DTSTART:20260308T090000
END:DAYLIGHT
BEGIN:STANDARD
TZOFFSETFROM:-0600
TZOFFSETTO:-0700
TZNAME:MST
DTSTART:20261101T080000
END:STANDARD
END:VTIMEZONE
BEGIN:VEVENT
DTSTART;TZID=America/Denver:20250302T113000
DTEND;TZID=America/Denver:20250302T123000
DTSTAMP:20260425T210219
CREATED:20250219T183605Z
LAST-MODIFIED:20250219T183605Z
UID:11577-1740915000-1740918600@www.lakewooducc.com
SUMMARY:Fat Sunday Pancake Breakfast
DESCRIPTION:We will celebrate Fat Tuesday on Sunday\, March 2\, with our traditional pancakes and sausage breakfast following the service. We will also have gluten-free pancakes\, veggie sausages\, and sugar-free syrup. Please join us for great food and a wonderful fellowship with your friends.\nWe will set up on Saturday\, March 1st at 2:00 pm. If you can help\, please come. If you can’t make Saturday\, then we need help cleaning up!\n\nLAISSEZ LES BONS TEMPS ROULER!
URL:https://www.lakewooducc.com/event/fat-sunday-pancake-breakfast/
END:VEVENT
BEGIN:VEVENT
DTSTART;TZID=America/Denver:20250305T110000
DTEND;TZID=America/Denver:20250305T130000
DTSTAMP:20260425T210219
CREATED:20250228T165815Z
LAST-MODIFIED:20250228T165815Z
UID:11599-1741172400-1741179600@www.lakewooducc.com
SUMMARY:Ashes-2-Go
DESCRIPTION:Ash Wednesday marks the beginning of the season of Lent\, 40 days\, six weeks of intentional prayer\, introspection\, ritual\, and forms of fasting or abstaining from certain practices\, that ends with the sweet celebration of Easter Sunday. Ash Wednesday is when we look squarely at our morality  and say\, “From dust we have come\, and to dust we will return.” We are marked and anointed with ashes (from last year’s palm branches)\, a physical reminder of where we have come\, and where we will return. While seemingly somber\, this is a chance for us to be honest with God and ourselves\, we are here on this earth for just a short time and ponder how we will live.\n\nYou are invited to come by the church from 11:00 am-1:00 pm on Wednesday\, March 5 to receive the imposition of ashes from one of the pastors. Ashes-2-Go containers will be available starting Sunday\, March 2\, so that you can do the imposition of ashes with your household at home.
URL:https://www.lakewooducc.com/event/ashes-2-go-2/
END:VEVENT
BEGIN:VEVENT
DTSTART;TZID=America/Denver:20250305T110000
DTEND;TZID=America/Denver:20250305T200000
DTSTAMP:20260425T210219
CREATED:20250226T190954Z
LAST-MODIFIED:20250226T190954Z
UID:11589-1741172400-1741204800@www.lakewooducc.com
SUMMARY:Ash Wednesday 2025
DESCRIPTION:Wednesday\, March 5\nAshes-2-Go\, 11:00 am-1:00 pm\nAsh Wednesday Service\, 7:00 pm \nAsh Wednesday marks the beginning of the season of Lent\, 40 days\, six weeks of intentional prayer\, introspection\, ritual\, and forms of fasting or abstaining from certain practices\, that ends with the sweet celebration of Easter Sunday. Ash Wednesday is when we look squarely at our morality  and say\, “From dust we have come\, and to dust we will return.” We are marked and anointed with ashes (from last year’s palm branches)\, a physical reminder of where we have come\, and where we will return. While seemingly somber\, this is a chance for us to be honest with God and ourselves\, we are here on this earth for just a short time and ponder how we will live. \nJoin us for our Ash Wednesday service on March 5 at 7:00 pm in person or online. You are also invited to come by the church from 11:00 am-1:00 pm on Wednesday\, March 5 to receive the imposition of ashes from one of the pastors. Ashes-2-Go containers will be available starting Sunday\, March 2\, so that you can do the imposition of ashes with your household at home.
URL:https://www.lakewooducc.com/event/ash-wednesday-2025/
END:VEVENT
BEGIN:VEVENT
DTSTART;TZID=America/Denver:20250306T123000
DTEND;TZID=America/Denver:20250306T133000
DTSTAMP:20260425T210219
CREATED:20250306T195232Z
LAST-MODIFIED:20250306T195232Z
UID:11620-1741264200-1741267800@www.lakewooducc.com
SUMMARY:Embodied Lenten Walks
DESCRIPTION:Join Rev. Mollie and others from our congregation in an embodied walk around Belmar Park each Thursday during Lent. We’ll meet in front of the library at 12:30 and walk around the loop\, for about 30 minutes. Rev. Mollie will offer a reflection question or poem\, and this time is for conversations and connections we aren’t able to make on Sunday mornings. Starts Thursday\, March 6 – April 17. No sign-up is needed\, just meet in front of the Belmar Library.
URL:https://www.lakewooducc.com/event/embodied-lenten-walks/
END:VEVENT
BEGIN:VEVENT
DTSTART;TZID=America/Denver:20250308T090000
DTEND;TZID=America/Denver:20250308T150000
DTSTAMP:20260425T210219
CREATED:20250305T200639Z
LAST-MODIFIED:20250305T200639Z
UID:11613-1741424400-1741446000@www.lakewooducc.com
SUMMARY:Together Colorado Regional Community Organizing Training
DESCRIPTION:In times of fear and uncertainty\, the wisdom of our respective faith traditions and ancestors reminds us that the way forward starts with building a beloved community that affirms every person’s human dignity. No matter what we look like\, where we come from\, or what faith traditions/values we practice\, we at Together Colorado are committed to shaping a future rooted in belonging.\n\nWe are at a pivotal moment\, and together\, we can move our state forward with justice and dignity. As the acclaimed author and activist\, Alice Walker\, reminds us “We are the ones we have been waiting for.”\n\nThis March\, join us for one of our in-person Regional Community Organizing Trainings across the state! These aren’t just trainings – this is a movement working to make transformational changes where we live and call home.\n\nJoin us for a full day of diving deeper into how to make meaning of this moment\, learn new strategies to cultivate local\, regional\, and statewide power\, and expand our base to create a powerful\, multiracial movement in Colorado. Whether you’re a longtime member or new to Together Colorado\, we welcome you to join us and invite others from your congregation and community group!\n\nWe hope you and the people you are connected to register to join us in launching a powerful faith-based grassroots movement. If you have any questions\, feel free to contact us at info@togetherco.org.\n\nIn Solidarity\,\nThe Team at Together Colorado\n\nInterested in attending? Please click HERE to register.
URL:https://www.lakewooducc.com/event/together-colorado-regional-community-organizing-training/
END:VEVENT
BEGIN:VEVENT
DTSTART;TZID=America/Denver:20250309T113000
DTEND;TZID=America/Denver:20250309T123000
DTSTAMP:20260425T210219
CREATED:20250219T183937Z
LAST-MODIFIED:20250219T183937Z
UID:11579-1741519800-1741523400@www.lakewooducc.com
SUMMARY:CPR Training
DESCRIPTION:We are excited to offer CPR training here at the church! On Sunday\, March 9\, at 12:00 pm\, Lakewood UCC will host a CPR class. The cost is $60 per person\, but there is scholarship money available\, so please do not let the cost prevent you from learning valuable lifesaving skills. We need a firm attendance number by the end of February\, so please sign up if you can commit to attending the class. Please contact Curt if interested in a scholarship.\n\nInterested? Please use the sign-up sheet at the welcome center in Narthex or click HERE to register!
URL:https://www.lakewooducc.com/event/cpr-training/
END:VEVENT
BEGIN:VEVENT
DTSTART;TZID=America/Denver:20250316T113000
DTEND;TZID=America/Denver:20250316T123000
DTSTAMP:20260425T210219
CREATED:20250312T162943Z
LAST-MODIFIED:20250312T162943Z
UID:11623-1742124600-1742128200@www.lakewooducc.com
SUMMARY:Liturgist Training
DESCRIPTION:In the Congregational tradition everyone is empowered to offer prayer\, preach\, and speak the Word. The Board of Congregational Care is seeking liturgists to offer the Opening Prayer and the Prayer of Dedication during worship. The Opening Prayer invites the congregation into a stance of spiritual opening by highlighting themes that are echoed in the service. The Prayer of Dedication acknowledge God’s gifts and is a blessing of our gifts in the service of the Divine plan for Love and justice. If you are interested in learning more about becoming a liturgist or you are ready to be a liturgist\, the Board of Congregational Care is hosting a training-information session on March 16th\, 12:00-1:00 at Lakewood UCC. For more information\, please contact Paul Michalec at paul.michalec@du.edu By attending this meeting there is no obligation to become a liturgist.
URL:https://www.lakewooducc.com/event/liturgist-training/
END:VEVENT
BEGIN:VEVENT
DTSTART;TZID=America/Denver:20250322T170000
DTEND;TZID=America/Denver:20250322T190000
DTSTAMP:20260425T210219
CREATED:20250317T174931Z
LAST-MODIFIED:20250317T174931Z
UID:11630-1742662800-1742670000@www.lakewooducc.com
SUMMARY:Welcome Spring Game Night
DESCRIPTION:Join us for an evening of board games\, card games\, and fun! Bring your favorite games (and dinner\, if you like). Faith Formation will provide snacks\, tables\, and a welcoming community – everyone is invited! Come as you are\, bring what you love\, and enjoy a night of connection.
URL:https://www.lakewooducc.com/event/welcome-spring-game-night/
END:VEVENT
BEGIN:VEVENT
DTSTART;VALUE=DATE:20250330
DTEND;VALUE=DATE:20250331
DTSTAMP:20260425T210219
CREATED:20250326T172631Z
LAST-MODIFIED:20250402T180342Z
UID:11641-1743292800-1743379199@www.lakewooducc.com
SUMMARY:Lenten Drive 2025
DESCRIPTION:Faith in Action is continuing a Lenten tradition of hosting a donation drive during the Sundays of Lent. Keeping in mind the Lenten theme of What Love Can Do\,  Love can…. welcome refugees and help with their transition to this country. We as people of faith\, will lift up this family’s story: Mohammad\, Ruba and their children. We will demonstrate hope and love in the midst of the rhetoric of fear and hate that has overtaken our politics.\nThis Sunday and next\, in addition to accepting cash donations (or checks made out to Lakewood United Church of Christ (memo line Syrian family) and Walmart gift cards of any denomination\, we will be collecting household goods for the family. You can find the list of items needed on the table in the Narthex! Thank you for your participation this season!
URL:https://www.lakewooducc.com/event/lenten-drive-2025/
END:VEVENT
BEGIN:VEVENT
DTSTART;TZID=America/Denver:20250330T120000
DTEND;TZID=America/Denver:20250330T140000
DTSTAMP:20260425T210219
CREATED:20250326T172457Z
LAST-MODIFIED:20250326T172457Z
UID:11639-1743336000-1743343200@www.lakewooducc.com
SUMMARY:Stories of Hope & Resilience: Lakewood UCC Storytelling Workshop
DESCRIPTION:You are invited to a storytelling workshop where we will unearth our personal and collective stories of hope and resilience so that we can more confidently participate in social change efforts to care for creation\, put our faith in action\, and lead with love. Join your Lakewood UCC community as we learn alongside our facilitator\, Maki Somosot\, a creative storyteller\, narrative practitioner\, and community organizer who founded Punto Consulting\, a progressive media agency. This will be an interactive and community-building afternoon. Lunch will be provided. Childcare will be available!\n\nInterested in attending? Please sign up HERE or on the sign-up sheet on the Welcome Center.
URL:https://www.lakewooducc.com/event/stories-of-hope-resilience-lakewood-ucc-storytelling-workshop/
END:VEVENT
END:VCALENDAR