BEGIN:VCALENDAR
VERSION:2.0
PRODID:-//Lakewood UCC - ECPv6.15.13//NONSGML v1.0//EN
CALSCALE:GREGORIAN
METHOD:PUBLISH
X-WR-CALNAME:Lakewood UCC
X-ORIGINAL-URL:https://www.lakewooducc.com
X-WR-CALDESC:Events for Lakewood UCC
REFRESH-INTERVAL;VALUE=DURATION:PT1H
X-Robots-Tag:noindex
X-PUBLISHED-TTL:PT1H
BEGIN:VTIMEZONE
TZID:America/Denver
BEGIN:DAYLIGHT
TZOFFSETFROM:-0700
TZOFFSETTO:-0600
TZNAME:MDT
DTSTART:20240310T090000
END:DAYLIGHT
BEGIN:STANDARD
TZOFFSETFROM:-0600
TZOFFSETTO:-0700
TZNAME:MST
DTSTART:20241103T080000
END:STANDARD
BEGIN:DAYLIGHT
TZOFFSETFROM:-0700
TZOFFSETTO:-0600
TZNAME:MDT
DTSTART:20250309T090000
END:DAYLIGHT
BEGIN:STANDARD
TZOFFSETFROM:-0600
TZOFFSETTO:-0700
TZNAME:MST
DTSTART:20251102T080000
END:STANDARD
BEGIN:DAYLIGHT
TZOFFSETFROM:-0700
TZOFFSETTO:-0600
TZNAME:MDT
DTSTART:20260308T090000
END:DAYLIGHT
BEGIN:STANDARD
TZOFFSETFROM:-0600
TZOFFSETTO:-0700
TZNAME:MST
DTSTART:20261101T080000
END:STANDARD
END:VTIMEZONE
BEGIN:VEVENT
DTSTART;TZID=America/Denver:20250111T090000
DTEND;TZID=America/Denver:20250111T103000
DTSTAMP:20260425T192939
CREATED:20241227T013331Z
LAST-MODIFIED:20241227T013331Z
UID:11495-1736586000-1736591400@www.lakewooducc.com
SUMMARY:Men's Breakfast
DESCRIPTION:We will gather at the Valley Inn Restaurant (1997 S Wadsworth Blvd\, Lakewood\, CO 80227) at 9:00 am on Saturday\, January 11. This is a time of casual conversation with no particular agenda. Any and all are welcome! Questions? Contact Daryl Foelske or Curt Preston.
URL:https://www.lakewooducc.com/event/mens-breakfast-24/
END:VEVENT
BEGIN:VEVENT
DTSTART;TZID=America/Denver:20250111T170000
DTEND;TZID=America/Denver:20250111T200000
DTSTAMP:20260425T192939
CREATED:20241227T013510Z
LAST-MODIFIED:20241227T013510Z
UID:11497-1736614800-1736625600@www.lakewooducc.com
SUMMARY:Welcome Winter Game Night!
DESCRIPTION:You’re invited to an evening of board games\, card games\, and general fun. Bring your favorite games (and dinner\, if you want it). We’ll supply some snacks\, tables\, and all the community you could want on a cold winter night! (Cold winter night not guaranteed.)
URL:https://www.lakewooducc.com/event/welcome-winter-game-night/
END:VEVENT
BEGIN:VEVENT
DTSTART;TZID=America/Denver:20250111T170000
DTEND;TZID=America/Denver:20250111T220000
DTSTAMP:20260425T192939
CREATED:20250106T170924Z
LAST-MODIFIED:20250106T170924Z
UID:11506-1736614800-1736632800@www.lakewooducc.com
SUMMARY:Welcome Winter Game Night
DESCRIPTION:You’re invited to an evening of board games\, card games\, and general fun. Bring your favorite games (and dinner\, if you want it). We’ll supply some snacks\, tables\, and all the community you could want on a cold winter night! (Cold winter night not guaranteed.) From 5:00 pm to whenever! We hope to see you there!
URL:https://www.lakewooducc.com/event/welcome-winter-game-night-2/
END:VEVENT
BEGIN:VEVENT
DTSTART;TZID=America/Denver:20250120T100000
DTEND;TZID=America/Denver:20250120T140000
DTSTAMP:20260425T192939
CREATED:20250115T181103Z
LAST-MODIFIED:20250115T181103Z
UID:11524-1737367200-1737381600@www.lakewooducc.com
SUMMARY:MLK Jr. Day Marade UPDATE
DESCRIPTION:Due to the forecasted extreme cold weather\, we will not be attending the Marade as a group. If you still want to attend on your own\, please dress warmly and be safe!
URL:https://www.lakewooducc.com/event/mlk-jr-day-marade-update/
END:VEVENT
BEGIN:VEVENT
DTSTART;TZID=America/Denver:20250122T183000
DTEND;TZID=America/Denver:20250122T200000
DTSTAMP:20260425T192939
CREATED:20250122T193815Z
LAST-MODIFIED:20250122T193815Z
UID:11541-1737570600-1737576000@www.lakewooducc.com
SUMMARY:Stories of Hope and Resilience in 2025 Planning Meeting
DESCRIPTION:Care for Creation invites you to join us today\, Wednesday\, January 22nd from 6:30-8:00 pm in-person at Lakewood UCC and online to collaboratively envision a storytelling workshop focused on the theme of “Stories of Hope & Resilience in 2025.”\nThis week\, we had Martin Luther King Jr. Day.  Today we pause to remember and honor the legacies and ongoing call to action of Black freedom fighters and those of all races who came alongside in solidarity to work for the Beloved Community. Digging into our personal and collective stories will help us stay rooted and give us courage as we put our faith into action\, lead with love\, and care for creation in the many ways we are called as the Body of Christ in 2025 and beyond. We are fortunate to have our colleague\, Maki Somosot (she/her) join us on Wednesday night and to facilitate the Sunday\, March 30 12-2pm workshop (mark your calendars!).\n\nWe hope you’ll attend in-person as that’s the best way to get our collective creativity going! However\, if Zoom makes it possible for you to join\, please click HERE for the link to join virtually.
URL:https://www.lakewooducc.com/event/stories-of-hope-and-resilience-in-2025-planning-meeting/
END:VEVENT
BEGIN:VEVENT
DTSTART;TZID=America/Denver:20250125T093000
DTEND;TZID=America/Denver:20250125T150000
DTSTAMP:20260425T192939
CREATED:20250122T193605Z
LAST-MODIFIED:20250122T193605Z
UID:11537-1737797400-1737817200@www.lakewooducc.com
SUMMARY:Together Colorado Town Hall
DESCRIPTION:Together Colorado is hosting a Legislative Engagement and Advocacy town hall on Saturday\, January 25 from 9:30 am to 11:00 am. This meeting is open to the public at Red Rocks Community College in the Community room and all are encouraged to come. Hope to see you there!
URL:https://www.lakewooducc.com/event/together-colorado-town-hall/
END:VEVENT
BEGIN:VEVENT
DTSTART;TZID=America/Denver:20250126T120000
DTEND;TZID=America/Denver:20250126T133000
DTSTAMP:20260425T192939
CREATED:20250122T193715Z
LAST-MODIFIED:20250122T193715Z
UID:11539-1737892800-1737898200@www.lakewooducc.com
SUMMARY:Congregational Meeting
DESCRIPTION:All are invited to attend our congregational meeting following worship on Sunday\, January 26\, 2024. The purpose of this meeting is to vote on the proposed 2025 budget as well as receive various reports from boards and committees. This meeting will be a hybrid meeting\, in person and on Zoom. Virtual participants will be able to ask questions\, vote\, and speak on the various agenda items up for discussion. YACaritos will also be sold before the Annual Meeting\, so come hungry!
URL:https://www.lakewooducc.com/event/congregational-meeting-7/
END:VEVENT
END:VCALENDAR