BEGIN:VCALENDAR
VERSION:2.0
PRODID:-//Lakewood UCC - ECPv6.15.13//NONSGML v1.0//EN
CALSCALE:GREGORIAN
METHOD:PUBLISH
X-ORIGINAL-URL:https://www.lakewooducc.com
X-WR-CALDESC:Events for Lakewood UCC
REFRESH-INTERVAL;VALUE=DURATION:PT1H
X-Robots-Tag:noindex
X-PUBLISHED-TTL:PT1H
BEGIN:VTIMEZONE
TZID:America/Denver
BEGIN:DAYLIGHT
TZOFFSETFROM:-0700
TZOFFSETTO:-0600
TZNAME:MDT
DTSTART:20210314T090000
END:DAYLIGHT
BEGIN:STANDARD
TZOFFSETFROM:-0600
TZOFFSETTO:-0700
TZNAME:MST
DTSTART:20211107T080000
END:STANDARD
BEGIN:DAYLIGHT
TZOFFSETFROM:-0700
TZOFFSETTO:-0600
TZNAME:MDT
DTSTART:20220313T090000
END:DAYLIGHT
BEGIN:STANDARD
TZOFFSETFROM:-0600
TZOFFSETTO:-0700
TZNAME:MST
DTSTART:20221106T080000
END:STANDARD
BEGIN:DAYLIGHT
TZOFFSETFROM:-0700
TZOFFSETTO:-0600
TZNAME:MDT
DTSTART:20230312T090000
END:DAYLIGHT
BEGIN:STANDARD
TZOFFSETFROM:-0600
TZOFFSETTO:-0700
TZNAME:MST
DTSTART:20231105T080000
END:STANDARD
END:VTIMEZONE
BEGIN:VEVENT
DTSTART;TZID=America/Denver:20220102T100000
DTEND;TZID=America/Denver:20220102T170000
DTSTAMP:20260424T161357
CREATED:20211229T185246Z
LAST-MODIFIED:20211229T185246Z
UID:9064-1641117600-1641142800@www.lakewooducc.com
SUMMARY:Mitten Tree Ends!
DESCRIPTION:Help us help others keep their hands warm during the winter months. We accept mittens and gloves for all ages but the need is especially for Men’s gloves. This donation will end on Sunday\, January 2. Have fun by hanging the gloves/mittens on or underneath our Christmas Mitten Tree in the narthex. Donations will go to the Jeffco Action Center.
URL:https://www.lakewooducc.com/event/mitten-tree-ends/
END:VEVENT
BEGIN:VEVENT
DTSTART;TZID=America/Denver:20220102T113000
DTEND;TZID=America/Denver:20220102T123000
DTSTAMP:20260424T161357
CREATED:20211229T185347Z
LAST-MODIFIED:20211229T185347Z
UID:9066-1641123000-1641126600@www.lakewooducc.com
SUMMARY:Advent Clean Up
DESCRIPTION:We are looking for a few hands to help us take down the advent decorations in and around the church and the sanctuary. If you are willing or able to help out\, please stay after service this Sunday!
URL:https://www.lakewooducc.com/event/advent-clean-up/
END:VEVENT
BEGIN:VEVENT
DTSTART;TZID=America/Denver:20220116T113000
DTEND;TZID=America/Denver:20220116T123000
DTSTAMP:20260424T161357
CREATED:20220105T211157Z
LAST-MODIFIED:20220105T211157Z
UID:9085-1642332600-1642336200@www.lakewooducc.com
SUMMARY:Lakewood UCC Book Group
DESCRIPTION:The Lakewood UCC Book Group will meet Sunday\, January 16th to decide the books we will read in 2022. We are meeting at Sandi Little’s home at 90 S. Hoyt St. Lakewood CO 80226. Please plan to be there as soon as you can following Church. This is not far from Church. All are welcome! If you have never attended before\, contact Linda Andreen at\, 720-257-4275 for information.
URL:https://www.lakewooducc.com/event/lakewood-ucc-book-group-21/
END:VEVENT
BEGIN:VEVENT
DTSTART;TZID=America/Denver:20220123T120000
DTEND;TZID=America/Denver:20220123T133000
DTSTAMP:20260424T161357
CREATED:20220105T211046Z
LAST-MODIFIED:20220105T211046Z
UID:9083-1642939200-1642944600@www.lakewooducc.com
SUMMARY:Save the Date: Congregational Meeting
DESCRIPTION:The primary purpose of the annual meeting is to approve the proposed 2022 budget. Additionally we will discuss proposed changes to our Care for Creation Covenant as well as receive an update on the endowment and other updates. Please plan to attend to ensure we meet our quorum numbers. You will have the opportunity to join this meeting in person at the church or through live participation on Zoom (link to come). We’ll have the annual report\, finance updates\, etc. in the next couple of weeks available for your review.
URL:https://www.lakewooducc.com/event/save-the-date-congregational-meeting/
END:VEVENT
END:VCALENDAR