BEGIN:VCALENDAR
VERSION:2.0
PRODID:-//Lakewood UCC - ECPv6.15.13//NONSGML v1.0//EN
CALSCALE:GREGORIAN
METHOD:PUBLISH
X-WR-CALNAME:Lakewood UCC
X-ORIGINAL-URL:https://www.lakewooducc.com
X-WR-CALDESC:Events for Lakewood UCC
REFRESH-INTERVAL;VALUE=DURATION:PT1H
X-Robots-Tag:noindex
X-PUBLISHED-TTL:PT1H
BEGIN:VTIMEZONE
TZID:America/Denver
BEGIN:DAYLIGHT
TZOFFSETFROM:-0700
TZOFFSETTO:-0600
TZNAME:MDT
DTSTART:20180311T090000
END:DAYLIGHT
BEGIN:STANDARD
TZOFFSETFROM:-0600
TZOFFSETTO:-0700
TZNAME:MST
DTSTART:20181104T080000
END:STANDARD
BEGIN:DAYLIGHT
TZOFFSETFROM:-0700
TZOFFSETTO:-0600
TZNAME:MDT
DTSTART:20190310T090000
END:DAYLIGHT
BEGIN:STANDARD
TZOFFSETFROM:-0600
TZOFFSETTO:-0700
TZNAME:MST
DTSTART:20191103T080000
END:STANDARD
BEGIN:DAYLIGHT
TZOFFSETFROM:-0700
TZOFFSETTO:-0600
TZNAME:MDT
DTSTART:20200308T090000
END:DAYLIGHT
BEGIN:STANDARD
TZOFFSETFROM:-0600
TZOFFSETTO:-0700
TZNAME:MST
DTSTART:20201101T080000
END:STANDARD
END:VTIMEZONE
BEGIN:VEVENT
DTSTART;TZID=America/Denver:20190305T173000
DTEND;TZID=America/Denver:20190305T190000
DTSTAMP:20260425T055203
CREATED:20190226T162148Z
LAST-MODIFIED:20190226T162510Z
UID:6037-1551807000-1551812400@www.lakewooducc.com
SUMMARY:Fat Tuesday Pancake Supper
DESCRIPTION:Save the date! In French\, it’s “Mardi Gras.” In English it’s “Fat Tuesday”—traditionally the last day Christians could eat sugary\, fatty foods before fasting for the season of Lent. Whether or not you’re fasting for Lent\, join us in the Fellowship Hall as we continue this ancient tradition with our Fat Tuesday Pancake Supper. We’ll be using an “open house” format\, with food served from 5:30 to a little before 7:00 p.m.\, so come whenever you can. Also\, we’ll need people to help set up that night around 4:00 p.m.
URL:https://www.lakewooducc.com/event/fat-tuesday-pancake-supper-2/
LOCATION:Lakewood United Church of Christ\, 100 Carr Street\, Lakewood\, CO\, 80226\, United States
END:VEVENT
BEGIN:VEVENT
DTSTART;TZID=America/Denver:20190306T190000
DTEND;TZID=America/Denver:20190306T200000
DTSTAMP:20260425T055203
CREATED:20190226T162323Z
LAST-MODIFIED:20190304T180644Z
UID:6039-1551898800-1551902400@www.lakewooducc.com
SUMMARY:Ash Wednesday Service
DESCRIPTION:Join us for this special service of music\, prayer\, a short sermon/reflection\, communion\, and the option of receiving ashes. Ash Wednesday is the official beginning of the season of Lent\, a time usually marked by confession\, discernment\, and increased awareness of spiritual practices. If you’ve never been to an Ash Wednesday Service we hope that you’ll try it this year. It is a meaningful way to prepare your spirit for the season of Lent.
URL:https://www.lakewooducc.com/event/ash-wednesday-service-2/
LOCATION:Lakewood United Church of Christ\, 100 Carr Street\, Lakewood\, CO\, 80226\, United States
END:VEVENT
BEGIN:VEVENT
DTSTART;TZID=America/Denver:20190310T113000
DTEND;TZID=America/Denver:20190310T123000
DTSTAMP:20260425T055203
CREATED:20190306T171427Z
LAST-MODIFIED:20190306T173750Z
UID:6064-1552217400-1552221000@www.lakewooducc.com
SUMMARY:Creative Crafters
DESCRIPTION:CALLING ALL CRAFTERS! \n\nLast year’s Holiday Boutique was a big success – but now is our chance to make it even better!  Let’s meet to discover what crafts you want to share with this year’s boutique.  This group will be an opportunity for fellowship/friendship/fun and creativity. We want to include all crafts – sewing\, knitting\, crocheting\, paper\, ceramics\, weaving\, jewelry\, wood – WHATEVER!  Even if you don’t currently create\, join in the fun and we will include you in the process. Our initial meeting will be on Sunday\, March 10th after the worship service in the Conference Room.\n\nPlease join us to share your ideas for the Boutique and thoughts on when to meet in the future. Hope to see you there! Questions? Contact Carolyn Ewald or Malinda Foelske
URL:https://www.lakewooducc.com/event/creative-crafters/
LOCATION:Lakewood United Church of Christ\, 100 Carr Street\, Lakewood\, CO\, 80226\, United States
END:VEVENT
BEGIN:VEVENT
DTSTART;TZID=America/Denver:20190312T183000
DTEND;TZID=America/Denver:20190312T200000
DTSTAMP:20260425T055203
CREATED:20190220T183600Z
LAST-MODIFIED:20190308T194958Z
UID:6013-1552415400-1552420800@www.lakewooducc.com
SUMMARY:Lenten Book Study
DESCRIPTION:Our pastors Curt and Mollie will be co-leading our Lenten Study every Tuesday beginning March 12 through April 9. Kate Bowler’s Everything Happens for a Reason and Other Lies I’ve Loved\, recounts Bowler’s experiences before\, during\, and after her cancer diagnosis and how being faced with death taught her how to live. Sign up on the Welcome Center. Contact Curt or Mollie for more information.
URL:https://www.lakewooducc.com/event/lenten-book-study-2-2019-03-19/
LOCATION:Lakewood United Church of Christ\, 100 Carr Street\, Lakewood\, CO\, 80226\, United States
END:VEVENT
BEGIN:VEVENT
DTSTART;TZID=America/Denver:20190317T150000
DTEND;TZID=America/Denver:20190317T163000
DTSTAMP:20260425T055203
CREATED:20190313T162757Z
LAST-MODIFIED:20190313T162757Z
UID:6072-1552834800-1552840200@www.lakewooducc.com
SUMMARY:Brewatitudes
DESCRIPTION:Join us March 17 from 3-4:30 at Landlocked Ales (3225 S. Wadsworth Blvd\, Lakewood\, CO 80227) for this monthly gathering to discuss theological topics in a casual atmosphere. Each month we will engage in a new topic at the intersection of theology & living\, faith & culture. This month’s conversation will focus on “Simplicity.” Food is available nearby\, beer is optional\, openness to good conversation a must. Discussion will be facilitated by Rev. Mollie\, contact her with any questions!
URL:https://www.lakewooducc.com/event/brewatitudes-2/
LOCATION:Lakewood United Church of Christ\, 100 Carr Street\, Lakewood\, CO\, 80226\, United States
END:VEVENT
BEGIN:VEVENT
DTSTART;TZID=America/Denver:20190331T113000
DTEND;TZID=America/Denver:20190331T123000
DTSTAMP:20260425T055203
CREATED:20190320T161426Z
LAST-MODIFIED:20190320T180901Z
UID:6078-1554031800-1554035400@www.lakewooducc.com
SUMMARY:April Foolish Day Fellowship
DESCRIPTION:Watch for the signup for April Foolish Day\, coming Sunday\, March 31st.  Bring finger foods that aren’t what they seem such as a grilled cheese sandwich made with yellow frosting in-between 2 pieces of pound cake and lightly grilled – get the idea?  There will be a poster with ideas\, suggestions\, and recipes in front of the Fellowship Hall.
URL:https://www.lakewooducc.com/event/april-foolish-day-fellowship/
LOCATION:Lakewood United Church of Christ\, 100 Carr Street\, Lakewood\, CO\, 80226\, United States
END:VEVENT
END:VCALENDAR