BEGIN:VCALENDAR
VERSION:2.0
PRODID:-//Lakewood UCC - ECPv6.15.13//NONSGML v1.0//EN
CALSCALE:GREGORIAN
METHOD:PUBLISH
X-ORIGINAL-URL:https://www.lakewooducc.com
X-WR-CALDESC:Events for Lakewood UCC
REFRESH-INTERVAL;VALUE=DURATION:PT1H
X-Robots-Tag:noindex
X-PUBLISHED-TTL:PT1H
BEGIN:VTIMEZONE
TZID:America/Denver
BEGIN:DAYLIGHT
TZOFFSETFROM:-0700
TZOFFSETTO:-0600
TZNAME:MDT
DTSTART:20180311T090000
END:DAYLIGHT
BEGIN:STANDARD
TZOFFSETFROM:-0600
TZOFFSETTO:-0700
TZNAME:MST
DTSTART:20181104T080000
END:STANDARD
BEGIN:DAYLIGHT
TZOFFSETFROM:-0700
TZOFFSETTO:-0600
TZNAME:MDT
DTSTART:20190310T090000
END:DAYLIGHT
BEGIN:STANDARD
TZOFFSETFROM:-0600
TZOFFSETTO:-0700
TZNAME:MST
DTSTART:20191103T080000
END:STANDARD
BEGIN:DAYLIGHT
TZOFFSETFROM:-0700
TZOFFSETTO:-0600
TZNAME:MDT
DTSTART:20200308T090000
END:DAYLIGHT
BEGIN:STANDARD
TZOFFSETFROM:-0600
TZOFFSETTO:-0700
TZNAME:MST
DTSTART:20201101T080000
END:STANDARD
END:VTIMEZONE
BEGIN:VEVENT
DTSTART;TZID=America/Denver:20190209T090000
DTEND;TZID=America/Denver:20190209T103000
DTSTAMP:20260424T185006
CREATED:20190122T171806Z
LAST-MODIFIED:20190130T175558Z
UID:5927-1549702800-1549708200@www.lakewooducc.com
SUMMARY:Men’s Breakfast
DESCRIPTION:Our Men’s Ministry breakfast is an easy and fun way to get to know some of the other guys in the church. The second Saturday of every month we gather at a local restaurant for breakfast to chat and deepen our relationships in a casual setting. We hope that you will plan on joining us. Restaurant: Sunrise/Sunset at 1424 S. Wadsworth. Questions? Contact Daryl Foelske.
URL:https://www.lakewooducc.com/event/mens-breakfast-14/
LOCATION:Lakewood United Church of Christ\, 100 Carr Street\, Lakewood\, CO\, 80226\, United States
END:VEVENT
BEGIN:VEVENT
DTSTART;TZID=America/Denver:20190210T113000
DTEND;TZID=America/Denver:20190210T123000
DTSTAMP:20260424T185006
CREATED:20190205T172113Z
LAST-MODIFIED:20190205T172113Z
UID:5955-1549798200-1549801800@www.lakewooducc.com
SUMMARY:Ooh-La-La Sunday!
DESCRIPTION:It’s Valentine’s Day!  Let’s celebrate how much we love Lakewood UCC with an all-church fellowship with decadent chocolate treats!  Chocolate covered strawberries?  Chocolatey rice krispie treats? Chocolate pretzels?  Count me in!\n\n \n\n(Remember!  We’re a nut-free church so please leave your nut treats at home.)
URL:https://www.lakewooducc.com/event/ooh-la-la-sunday/
LOCATION:Lakewood United Church of Christ\, 100 Carr Street\, Lakewood\, CO\, 80226\, United States
END:VEVENT
BEGIN:VEVENT
DTSTART;TZID=America/Denver:20190217T150000
DTEND;TZID=America/Denver:20190217T163000
DTSTAMP:20260424T185006
CREATED:20190205T171605Z
LAST-MODIFIED:20190212T174832Z
UID:5953-1550415600-1550421000@www.lakewooducc.com
SUMMARY:Brewatitudes
DESCRIPTION:Join us February 17 from 3-4:30 at Landlocked Ales (3225 S. Wadsworth Blvd\, Lakewood\, CO 80227) for this monthly gathering to discuss theological topics in a casual atmosphere. Each month we will engage in a new topic at the intersection of theology & living\, faith & culture. This month’s conversation will focus on “Joy as Resistance”. Food is available nearby\, beer is optional\, openness to good conversation a must. Discussion will be facilitated by Rev. Mollie\, contact her with any questions!
URL:https://www.lakewooducc.com/event/brewatitudes/
LOCATION:Lakewood United Church of Christ\, 100 Carr Street\, Lakewood\, CO\, 80226\, United States
END:VEVENT
BEGIN:VEVENT
DTSTART;TZID=America/Denver:20190224T114500
DTEND;TZID=America/Denver:20190224T130000
DTSTAMP:20260424T185006
CREATED:20190205T173423Z
LAST-MODIFIED:20190205T182343Z
UID:5957-1551008700-1551013200@www.lakewooducc.com
SUMMARY:Listening Well\, Leaning-In Conversation
DESCRIPTION:It is hard to have important conversations with people you disagree with\, and in our current culture\, increasingly so. Join the Faith Formation Board\, and Pastors Curt and Mollie for a facilitated conversation with the goal of strengthening our listening skills that we might have meaningful conversations with each other. We hope to offer these listening sessions around other challenging topics in the future. This listening session will be an introduction to honing our listening and leaning-in skills over the topic of gun violence\, an issue that affects us all. Come with an open mind and heart on February 24 from 11:45-1pm. Refreshments will be provided. Please sign up on the Welcome Center.\n\n 
URL:https://www.lakewooducc.com/event/listening-well/
LOCATION:Lakewood United Church of Christ\, 100 Carr Street\, Lakewood\, CO\, 80226\, United States
END:VEVENT
END:VCALENDAR