BEGIN:VCALENDAR
VERSION:2.0
PRODID:-//Lakewood UCC - ECPv6.15.13//NONSGML v1.0//EN
CALSCALE:GREGORIAN
METHOD:PUBLISH
X-WR-CALNAME:Lakewood UCC
X-ORIGINAL-URL:https://www.lakewooducc.com
X-WR-CALDESC:Events for Lakewood UCC
REFRESH-INTERVAL;VALUE=DURATION:PT1H
X-Robots-Tag:noindex
X-PUBLISHED-TTL:PT1H
BEGIN:VTIMEZONE
TZID:America/Denver
BEGIN:DAYLIGHT
TZOFFSETFROM:-0700
TZOFFSETTO:-0600
TZNAME:MDT
DTSTART:20150308T090000
END:DAYLIGHT
BEGIN:STANDARD
TZOFFSETFROM:-0600
TZOFFSETTO:-0700
TZNAME:MST
DTSTART:20151101T080000
END:STANDARD
BEGIN:DAYLIGHT
TZOFFSETFROM:-0700
TZOFFSETTO:-0600
TZNAME:MDT
DTSTART:20160313T090000
END:DAYLIGHT
BEGIN:STANDARD
TZOFFSETFROM:-0600
TZOFFSETTO:-0700
TZNAME:MST
DTSTART:20161106T080000
END:STANDARD
BEGIN:DAYLIGHT
TZOFFSETFROM:-0700
TZOFFSETTO:-0600
TZNAME:MDT
DTSTART:20170312T090000
END:DAYLIGHT
BEGIN:STANDARD
TZOFFSETFROM:-0600
TZOFFSETTO:-0700
TZNAME:MST
DTSTART:20171105T080000
END:STANDARD
BEGIN:DAYLIGHT
TZOFFSETFROM:-0700
TZOFFSETTO:-0600
TZNAME:MDT
DTSTART:20180311T090000
END:DAYLIGHT
BEGIN:STANDARD
TZOFFSETFROM:-0600
TZOFFSETTO:-0700
TZNAME:MST
DTSTART:20181104T080000
END:STANDARD
END:VTIMEZONE
BEGIN:VEVENT
DTSTART;TZID=America/Denver:20160922T190000
DTEND;TZID=America/Denver:20170601T200000
DTSTAMP:20260424T150500
CREATED:20160122T190202Z
LAST-MODIFIED:20170526T162400Z
UID:2652-1474570800-1496347200@www.lakewooducc.com
SUMMARY:Choir Practice
DESCRIPTION:
URL:https://www.lakewooducc.com/event/choir-practice/
LOCATION:Lakewood United Church of Christ\, 100 Carr Street\, Lakewood\, CO\, 80226\, United States
END:VEVENT
BEGIN:VEVENT
DTSTART;TZID=America/Denver:20170305T113000
DTEND;TZID=America/Denver:20170305T130000
DTSTAMP:20260424T150500
CREATED:20160103T184834Z
LAST-MODIFIED:20161003T174907Z
UID:2805-1488713400-1488718800@www.lakewooducc.com
SUMMARY:Confirmation Session 9
DESCRIPTION:
URL:https://www.lakewooducc.com/event/confirmation-session-9/
LOCATION:Lakewood United Church of Christ\, 100 Carr Street\, Lakewood\, CO\, 80226\, United States
END:VEVENT
BEGIN:VEVENT
DTSTART;TZID=America/Denver:20170307T183000
DTEND;TZID=America/Denver:20170307T200000
DTSTAMP:20260424T150501
CREATED:20170214T164708Z
LAST-MODIFIED:20170214T184633Z
UID:882-1488911400-1488916800@www.lakewooducc.com
SUMMARY:Lenten Study
DESCRIPTION:Join us for our Lenten Study every Tuesday beginning March 7 through April 4th.\nOur book\, Life of the Beloved by Henri Nouwen\, was originally published 25 years ago. Life of the Beloved is a classic of Christian spiritual writing that still speaks to today. Henri Nouwen is an acclaimed writer of more than 40 books and is widely considered one the great spiritual writers of our day. For five Tuesday evenings beginning March 7\, we’ll explore what it means to be God’s beloved. Copies are available online\, in bookstores\, and via kindle. Contact Curt Preston for more information.
URL:https://www.lakewooducc.com/event/lenten-study/
LOCATION:Lakewood United Church of Christ\, 100 Carr Street\, Lakewood\, CO\, 80226\, United States
END:VEVENT
BEGIN:VEVENT
DTSTART;TZID=America/Denver:20170312T090000
DTEND;TZID=America/Denver:20170312T100000
DTSTAMP:20260424T150501
CREATED:20170301T143606Z
LAST-MODIFIED:20170303T183634Z
UID:3771-1489309200-1489312800@www.lakewooducc.com
SUMMARY:Men's Retreat Planning Comittee
DESCRIPTION:This year’s Men’s retreat will be taking place at La Foret from Friday\, May 5 through Sunday\, May 7. The cost will be $120\, and scholarships are available if you need help. If you’d like to join the planning committee and help out\, our next meeting is on Sunday March 12th at 9 a.m. Hope to see there.
URL:https://www.lakewooducc.com/event/mens-retreat-planning-comittee/
LOCATION:Lakewood United Church of Christ\, 100 Carr Street\, Lakewood\, CO\, 80226\, United States
END:VEVENT
BEGIN:VEVENT
DTSTART;TZID=America/Denver:20170312T113000
DTEND;TZID=America/Denver:20170312T123000
DTSTAMP:20260424T150501
CREATED:20170306T180954Z
LAST-MODIFIED:20170306T180954Z
UID:3780-1489318200-1489321800@www.lakewooducc.com
SUMMARY:Pine Ridge Informational Meeting
DESCRIPTION:Plans are underway for our 2017 mission trip to the Pine Ridge Reservation. The dates for the trip are July 1 – July 7. We will have an informational meeting this Sunday following worship. Anyone planning to go on this year’s trip or anyone who would like to find out more should attend. The total cost per person is $550\, but the church plans to pay for half of that amount. Additional scholarships are available for adults and youth if needed. Our coordinator for this year’s trip is Kathleen Paduano. You can email her at kathpad@gmail.com if you would like to know more.
URL:https://www.lakewooducc.com/event/pine-ridge-informational-meeting/
LOCATION:Lakewood United Church of Christ\, 100 Carr Street\, Lakewood\, CO\, 80226\, United States
END:VEVENT
BEGIN:VEVENT
DTSTART;TZID=America/Denver:20170312T113000
DTEND;TZID=America/Denver:20170312T130000
DTSTAMP:20260424T150501
CREATED:20170228T195048Z
LAST-MODIFIED:20170301T194854Z
UID:3746-1489318200-1489323600@www.lakewooducc.com
SUMMARY:St. Patrick's Day Fellowship
DESCRIPTION:Join us for another heritage themed fellowship hour. March’s theme is Irish\, in honor of St. Patrick’s Day.  Think corned beef\, soda bread\,  potato dishes\, and cheeses. Come enjoy food\, music\, and maybe even a little step dancing\, if you’re in the mood! Sign up in the Narthex to bring a dish.\n\n 
URL:https://www.lakewooducc.com/event/3746/
LOCATION:Lakewood United Church of Christ\, 100 Carr Street\, Lakewood\, CO\, 80226\, United States
END:VEVENT
BEGIN:VEVENT
DTSTART;TZID=America/Denver:20170312T123000
DTEND;TZID=America/Denver:20170312T133000
DTSTAMP:20260424T150501
CREATED:20170306T181131Z
LAST-MODIFIED:20170306T181146Z
UID:3782-1489321800-1489325400@www.lakewooducc.com
SUMMARY:Sunday School Leaders Meeting
DESCRIPTION:Join us for lunch and a discussion about the future of Children’s Faith Formation at Lakewood UCC.
URL:https://www.lakewooducc.com/event/sunday-school-leaders-meeting-2/
LOCATION:Lakewood United Church of Christ\, 100 Carr Street\, Lakewood\, CO\, 80226\, United States
END:VEVENT
BEGIN:VEVENT
DTSTART;TZID=America/Denver:20170318T170000
DTEND;TZID=America/Denver:20170318T190000
DTSTAMP:20260424T150501
CREATED:20170228T195519Z
LAST-MODIFIED:20170228T195519Z
UID:3751-1489856400-1489863600@www.lakewooducc.com
SUMMARY:Food & Friends
DESCRIPTION:Food & Friends is a new social group meeting a the home of Pricilla and Steve Ingebrigtsen. The theme for March is Irish cuisine. If you would like to join please RSVP at 303)274-1788 and let us know what dish you would like to bring.\n\n 
URL:https://www.lakewooducc.com/event/food-friends/
LOCATION:Lakewood United Church of Christ\, 100 Carr Street\, Lakewood\, CO\, 80226\, United States
END:VEVENT
BEGIN:VEVENT
DTSTART;TZID=America/Denver:20170319T180000
DTEND;TZID=America/Denver:20170319T200000
DTSTAMP:20260424T150501
CREATED:20160103T182628Z
LAST-MODIFIED:20161003T172713Z
UID:2790-1489946400-1489953600@www.lakewooducc.com
SUMMARY:Confirmation Session 10
DESCRIPTION:
URL:https://www.lakewooducc.com/event/confirmation-session-10/
LOCATION:Lakewood United Church of Christ\, 100 Carr Street\, Lakewood\, CO\, 80226\, United States
END:VEVENT
BEGIN:VEVENT
DTSTART;TZID=America/Denver:20170325T203000
DTEND;TZID=America/Denver:20170325T213000
DTSTAMP:20260424T150501
CREATED:20170228T195255Z
LAST-MODIFIED:20170228T195255Z
UID:3749-1490473800-1490477400@www.lakewooducc.com
SUMMARY:Earth Hour
DESCRIPTION:Care for Creation Ministry would like to invite you to participate in Earth Hour 2017! Earth Hour is a worldwide movement started by the World Wide Fund for Nature to unite people to take action for our planet. On Saturday\, March 25th at 8:30 pm participants will switch off their lights to show their commitment to the cause of climate action. This year World Wide Fund is calling on individuals around the world to show they care for the planet on their personal social feeds such as Facebook. Visit www.earthhour.org/climateaction to donate your feed and change your profile picture to shine a light on climate action. You could also organize a picnic or dinner in the dark with family and friends!
URL:https://www.lakewooducc.com/event/earth-hour-2/
LOCATION:Lakewood United Church of Christ\, 100 Carr Street\, Lakewood\, CO\, 80226\, United States
END:VEVENT
BEGIN:VEVENT
DTSTART;TZID=America/Denver:20170326T113000
DTEND;TZID=America/Denver:20170326T133000
DTSTAMP:20260424T150501
CREATED:20170301T184430Z
LAST-MODIFIED:20170301T190723Z
UID:3754-1490527800-1490535000@www.lakewooducc.com
SUMMARY:Soup and Civil Discourse Series
DESCRIPTION:This will be a 3-month series beginning on Sunday\, March 26 from 11:30 to 1:15 in the Fellowship Hall. Following the recent post-church discussion on ‘Politics and the Church\,’ the Christian Education Board and other members of our church community expressed an interest in conversations that could begin to bridge the divide that has snared the nation\, our neighborhoods\, and even our families. We hope to “share a lot … learn a lot … and better understand our common lot.”  If you are interested please sign up and take the handout available at the Welcome Center.
URL:https://www.lakewooducc.com/event/soup-and-civil-discourse-series/
LOCATION:Lakewood United Church of Christ\, 100 Carr Street\, Lakewood\, CO\, 80226\, United States
END:VEVENT
END:VCALENDAR