BEGIN:VCALENDAR
VERSION:2.0
PRODID:-//Lakewood UCC - ECPv6.15.13//NONSGML v1.0//EN
CALSCALE:GREGORIAN
METHOD:PUBLISH
X-WR-CALNAME:Lakewood UCC
X-ORIGINAL-URL:https://www.lakewooducc.com
X-WR-CALDESC:Events for Lakewood UCC
REFRESH-INTERVAL;VALUE=DURATION:PT1H
X-Robots-Tag:noindex
X-PUBLISHED-TTL:PT1H
BEGIN:VTIMEZONE
TZID:America/Denver
BEGIN:DAYLIGHT
TZOFFSETFROM:-0700
TZOFFSETTO:-0600
TZNAME:MDT
DTSTART:20250309T090000
END:DAYLIGHT
BEGIN:STANDARD
TZOFFSETFROM:-0600
TZOFFSETTO:-0700
TZNAME:MST
DTSTART:20251102T080000
END:STANDARD
BEGIN:DAYLIGHT
TZOFFSETFROM:-0700
TZOFFSETTO:-0600
TZNAME:MDT
DTSTART:20260308T090000
END:DAYLIGHT
BEGIN:STANDARD
TZOFFSETFROM:-0600
TZOFFSETTO:-0700
TZNAME:MST
DTSTART:20261101T080000
END:STANDARD
BEGIN:DAYLIGHT
TZOFFSETFROM:-0700
TZOFFSETTO:-0600
TZNAME:MDT
DTSTART:20270314T090000
END:DAYLIGHT
BEGIN:STANDARD
TZOFFSETFROM:-0600
TZOFFSETTO:-0700
TZNAME:MST
DTSTART:20271107T080000
END:STANDARD
END:VTIMEZONE
BEGIN:VEVENT
DTSTART;TZID=America/Denver:20260308T113000
DTEND;TZID=America/Denver:20260308T123000
DTSTAMP:20260424T135148
CREATED:20260225T172540Z
LAST-MODIFIED:20260225T172540Z
UID:12169-1772969400-1772973000@www.lakewooducc.com
SUMMARY:Hobby Swap
DESCRIPTION:Join us for Lakewood UCC’s first-ever hobby swap on March 8! Ever had grand plans to take up knitting\, quilting\, or playing guitar and got all the things for it\, only to discover it’s not for you? Us too\, which is why Care for Creation invites you to bring in the hobby items that you no longer want or need and swap them for someone else’s. Consider bringing your gently- or never-used yarn\, thread\, songbooks\, puzzles\, board games\, cake pans\, paints\, fabric\, art supplies\, woodworking tools\, and more\, and see what others have brought you might want to try. We encourage all to peruse the offerings\, even if you don’t bring anything\, and to participate\, even if you aren’t looking for any hobby supplies to take home. Questions? Contact Lucy Preston or Joy Carletti.
URL:https://www.lakewooducc.com/event/hobby-swap/
END:VEVENT
END:VCALENDAR