BEGIN:VCALENDAR
VERSION:2.0
PRODID:-//Lakewood UCC - ECPv6.15.13//NONSGML v1.0//EN
CALSCALE:GREGORIAN
METHOD:PUBLISH
X-WR-CALNAME:Lakewood UCC
X-ORIGINAL-URL:https://www.lakewooducc.com
X-WR-CALDESC:Events for Lakewood UCC
REFRESH-INTERVAL;VALUE=DURATION:PT1H
X-Robots-Tag:noindex
X-PUBLISHED-TTL:PT1H
BEGIN:VTIMEZONE
TZID:America/Denver
BEGIN:DAYLIGHT
TZOFFSETFROM:-0700
TZOFFSETTO:-0600
TZNAME:MDT
DTSTART:20240310T090000
END:DAYLIGHT
BEGIN:STANDARD
TZOFFSETFROM:-0600
TZOFFSETTO:-0700
TZNAME:MST
DTSTART:20241103T080000
END:STANDARD
BEGIN:DAYLIGHT
TZOFFSETFROM:-0700
TZOFFSETTO:-0600
TZNAME:MDT
DTSTART:20250309T090000
END:DAYLIGHT
BEGIN:STANDARD
TZOFFSETFROM:-0600
TZOFFSETTO:-0700
TZNAME:MST
DTSTART:20251102T080000
END:STANDARD
BEGIN:DAYLIGHT
TZOFFSETFROM:-0700
TZOFFSETTO:-0600
TZNAME:MDT
DTSTART:20260308T090000
END:DAYLIGHT
BEGIN:STANDARD
TZOFFSETFROM:-0600
TZOFFSETTO:-0700
TZNAME:MST
DTSTART:20261101T080000
END:STANDARD
END:VTIMEZONE
BEGIN:VEVENT
DTSTART;TZID=America/Denver:20251209T190000
DTEND;TZID=America/Denver:20251209T200000
DTSTAMP:20260424T161145
CREATED:20251203T165911Z
LAST-MODIFIED:20251203T165911Z
UID:12025-1765306800-1765310400@www.lakewooducc.com
SUMMARY:Blue Christmas Service 2025
DESCRIPTION:The holidays and Christmas in particular can be a difficult time of year to find the space to feel emotions other than joy & cheer. Grief and pain know no season. Join us for the Blue Christmas Service on Tuesday\, December 9\, at 7:00 pm. We will gather in person only to hold space for grief\, uncertainty\, and the fullness of what we may be carrying this season. Please see one of the Pastors for additional support or resources.
URL:https://www.lakewooducc.com/event/blue-christmas-service-2025/
END:VEVENT
END:VCALENDAR