BEGIN:VCALENDAR
VERSION:2.0
PRODID:-//Lakewood UCC - ECPv6.15.13//NONSGML v1.0//EN
CALSCALE:GREGORIAN
METHOD:PUBLISH
X-ORIGINAL-URL:https://www.lakewooducc.com
X-WR-CALDESC:Events for Lakewood UCC
REFRESH-INTERVAL;VALUE=DURATION:PT1H
X-Robots-Tag:noindex
X-PUBLISHED-TTL:PT1H
BEGIN:VTIMEZONE
TZID:America/Denver
BEGIN:DAYLIGHT
TZOFFSETFROM:-0700
TZOFFSETTO:-0600
TZNAME:MDT
DTSTART:20240310T090000
END:DAYLIGHT
BEGIN:STANDARD
TZOFFSETFROM:-0600
TZOFFSETTO:-0700
TZNAME:MST
DTSTART:20241103T080000
END:STANDARD
BEGIN:DAYLIGHT
TZOFFSETFROM:-0700
TZOFFSETTO:-0600
TZNAME:MDT
DTSTART:20250309T090000
END:DAYLIGHT
BEGIN:STANDARD
TZOFFSETFROM:-0600
TZOFFSETTO:-0700
TZNAME:MST
DTSTART:20251102T080000
END:STANDARD
BEGIN:DAYLIGHT
TZOFFSETFROM:-0700
TZOFFSETTO:-0600
TZNAME:MDT
DTSTART:20260308T090000
END:DAYLIGHT
BEGIN:STANDARD
TZOFFSETFROM:-0600
TZOFFSETTO:-0700
TZNAME:MST
DTSTART:20261101T080000
END:STANDARD
END:VTIMEZONE
BEGIN:VEVENT
DTSTART;TZID=America/Denver:20251207T113000
DTEND;TZID=America/Denver:20251207T123000
DTSTAMP:20260424T185010
CREATED:20251126T193246Z
LAST-MODIFIED:20251126T193246Z
UID:12016-1765107000-1765110600@www.lakewooducc.com
SUMMARY:Incredible Edibles and Heifer International in Person!
DESCRIPTION:SAVE THE DATE! Incredible Edibles is back on Sunday\, December 7. It’s that time of year again-Incredible Edibles bake sale led by those wonderful sisters: Janet Hehr\, Linda Royval.  Who benefits from the Proceeds? The Action Center is a non-profit organization that provides a continuum of services for people facing challenges. Their services include\, but are not limited to\, free food and clothing\, financial assistance\, and family services.  How do you participate? Besides shopping on December 7\, we encourage you to bring nicely presented baked goods that will sell! Presentation is important and as Janet likes to say….Bring your A game.\n\nHeifer International Donations In-Person on Sunday\, December 7\, at 11:30 am. Because of Lakewood UCC’s long-standing tradition of donating to Heifer International\, Glenda Bobby will once again be receiving donations after church on December 7 in the Fellowship Hall. If you are wondering what you can do this Christmas to help people throughout the world\, this is your chance. You can give a share of an animal or the whole animal to a needy family\, but much more is available. You can also give a gift of clean water\, biogas stoves\, a family solar kit\, or send a girl to school. Please stop by the Heifer table to find out more. You will receive credit for your donation through your Breeze account.  Cash or checks will be accepted\, but no credit cards. There will also be holiday cards available for you to donate in someone’s honor. What a great gift for that person in your life who has everything\, a wonderfully meaningful gift for a friend or relative!
URL:https://www.lakewooducc.com/event/incredible-edibles-and-heifer-international-in-person/
END:VEVENT
BEGIN:VEVENT
DTSTART;TZID=America/Denver:20251207T140000
DTEND;TZID=America/Denver:20251207T150000
DTSTAMP:20260424T185010
CREATED:20251203T170003Z
LAST-MODIFIED:20251203T170003Z
UID:12027-1765116000-1765119600@www.lakewooducc.com
SUMMARY:NoEnemies Song Circle
DESCRIPTION:Join NoEnemies monthly song circle\, which is being held at Lakewood United Church of Christ this December. These monthly gatherings are an opportunity to raise our voices\, learn simple chants and song verses. NoEnemies is not an organization or political party\, but a space we create together\, share songs\, and practice our power. Questions? Contact nancy.gruschow@outlook.com.
URL:https://www.lakewooducc.com/event/noenemies-song-circle/
END:VEVENT
END:VCALENDAR