BEGIN:VCALENDAR
VERSION:2.0
PRODID:-//Lakewood UCC - ECPv6.15.13//NONSGML v1.0//EN
CALSCALE:GREGORIAN
METHOD:PUBLISH
X-WR-CALNAME:Lakewood UCC
X-ORIGINAL-URL:https://www.lakewooducc.com
X-WR-CALDESC:Events for Lakewood UCC
REFRESH-INTERVAL;VALUE=DURATION:PT1H
X-Robots-Tag:noindex
X-PUBLISHED-TTL:PT1H
BEGIN:VTIMEZONE
TZID:America/Denver
BEGIN:DAYLIGHT
TZOFFSETFROM:-0700
TZOFFSETTO:-0600
TZNAME:MDT
DTSTART:20240310T090000
END:DAYLIGHT
BEGIN:STANDARD
TZOFFSETFROM:-0600
TZOFFSETTO:-0700
TZNAME:MST
DTSTART:20241103T080000
END:STANDARD
BEGIN:DAYLIGHT
TZOFFSETFROM:-0700
TZOFFSETTO:-0600
TZNAME:MDT
DTSTART:20250309T090000
END:DAYLIGHT
BEGIN:STANDARD
TZOFFSETFROM:-0600
TZOFFSETTO:-0700
TZNAME:MST
DTSTART:20251102T080000
END:STANDARD
BEGIN:DAYLIGHT
TZOFFSETFROM:-0700
TZOFFSETTO:-0600
TZNAME:MDT
DTSTART:20260308T090000
END:DAYLIGHT
BEGIN:STANDARD
TZOFFSETFROM:-0600
TZOFFSETTO:-0700
TZNAME:MST
DTSTART:20261101T080000
END:STANDARD
END:VTIMEZONE
BEGIN:VEVENT
DTSTART;TZID=America/Denver:20251119T180000
DTEND;TZID=America/Denver:20251119T190000
DTSTAMP:20260425T153000
CREATED:20251119T185151Z
LAST-MODIFIED:20251119T185151Z
UID:12005-1763575200-1763578800@www.lakewooducc.com
SUMMARY:Pine Ridge Service Learning Trip Information Meeting
DESCRIPTION:If you are interested in the 2026 multi-generational service learning trip\, please join for a brief information meeting. We will be going to Re-member on the Pine Ridge Reservation from June 20-26 of 2026.\n\nWe will meet via Zoom (click for the link to join) on Wednesday\, November 19 (TONIGHT)\, from 6:15 pm-6:45 pm\, just before Church Council. This Zoom will be recorded and available if you are unable to attend.\n\nWe will go over the cost\, fundraising\, and what the trip will look like. We will also identify a lay leader to co-lead logistics and planning with Rev. Mollie. Please also check out Re-member’s website for more info by clicking HERE.
URL:https://www.lakewooducc.com/event/pine-ridge-service-learning-trip-information-meeting/
END:VEVENT
END:VCALENDAR