BEGIN:VCALENDAR
VERSION:2.0
PRODID:-//Lakewood UCC - ECPv6.15.13//NONSGML v1.0//EN
CALSCALE:GREGORIAN
METHOD:PUBLISH
X-WR-CALNAME:Lakewood UCC
X-ORIGINAL-URL:https://www.lakewooducc.com
X-WR-CALDESC:Events for Lakewood UCC
REFRESH-INTERVAL;VALUE=DURATION:PT1H
X-Robots-Tag:noindex
X-PUBLISHED-TTL:PT1H
BEGIN:VTIMEZONE
TZID:America/Denver
BEGIN:DAYLIGHT
TZOFFSETFROM:-0700
TZOFFSETTO:-0600
TZNAME:MDT
DTSTART:20240310T090000
END:DAYLIGHT
BEGIN:STANDARD
TZOFFSETFROM:-0600
TZOFFSETTO:-0700
TZNAME:MST
DTSTART:20241103T080000
END:STANDARD
BEGIN:DAYLIGHT
TZOFFSETFROM:-0700
TZOFFSETTO:-0600
TZNAME:MDT
DTSTART:20250309T090000
END:DAYLIGHT
BEGIN:STANDARD
TZOFFSETFROM:-0600
TZOFFSETTO:-0700
TZNAME:MST
DTSTART:20251102T080000
END:STANDARD
BEGIN:DAYLIGHT
TZOFFSETFROM:-0700
TZOFFSETTO:-0600
TZNAME:MDT
DTSTART:20260308T090000
END:DAYLIGHT
BEGIN:STANDARD
TZOFFSETFROM:-0600
TZOFFSETTO:-0700
TZNAME:MST
DTSTART:20261101T080000
END:STANDARD
END:VTIMEZONE
BEGIN:VEVENT
DTSTART;TZID=America/Denver:20251116T113000
DTEND;TZID=America/Denver:20251116T123000
DTSTAMP:20260425T152945
CREATED:20251112T190956Z
LAST-MODIFIED:20251112T190956Z
UID:11992-1763292600-1763296200@www.lakewooducc.com
SUMMARY:Stewardship Sunday Luncheon Celebration
DESCRIPTION:Beacon of hope…. this is the Stewardship theme for 2025. The theme of Lighthouses\, radiant light shining forth\, and how we become the symbol of hope for the world\, is our focus. We turn faithfully to Matthew 5:16;\n“Let your light shine before others\, so that they may see your good works and give glory to God.”\nThe stewardship campaign will be held on three Sundays\, November 2\, 9\, and 16. Our pledge cards will be dedicated during the church service on November 16\, followed by a celebratory luncheon. This year\, we will be hosting a Chili luncheon provided by the committee and special congregational helpers. Please plan to join us as everyone is invited!\nPlease connect with us as we talk about our beacon of hope for the weary world\, the amazing ways our church works in the community\, and our planet. Praise God for all our cherished members/friends of this wonderful church. We thank each of you for your continued support\, both financially and prayerfully\, to help us make our budget goals.\nIf you have any questions\, please email or call Nancy Jorgenson\, chair of Stewardship at chousecat81@gmail.com or 303-886-7093.  You may also email or call Sheila Wiese at sheilamwiese@gmail.com or 303-589-1851. You will be able to email Sheila with your pledge if that is more convenient.\nHow will we be the Beacon of light in the World in 2026?\n\nClick HERE for the 2026 Narrative Budget\nClick HERE to access a digital Pledge Card!
URL:https://www.lakewooducc.com/event/stewardship-sunday-luncheon-celebration/
END:VEVENT
END:VCALENDAR