BEGIN:VCALENDAR
VERSION:2.0
PRODID:-//Lakewood UCC - ECPv6.15.13//NONSGML v1.0//EN
CALSCALE:GREGORIAN
METHOD:PUBLISH
X-WR-CALNAME:Lakewood UCC
X-ORIGINAL-URL:https://www.lakewooducc.com
X-WR-CALDESC:Events for Lakewood UCC
REFRESH-INTERVAL;VALUE=DURATION:PT1H
X-Robots-Tag:noindex
X-PUBLISHED-TTL:PT1H
BEGIN:VTIMEZONE
TZID:America/Denver
BEGIN:DAYLIGHT
TZOFFSETFROM:-0700
TZOFFSETTO:-0600
TZNAME:MDT
DTSTART:20240310T090000
END:DAYLIGHT
BEGIN:STANDARD
TZOFFSETFROM:-0600
TZOFFSETTO:-0700
TZNAME:MST
DTSTART:20241103T080000
END:STANDARD
BEGIN:DAYLIGHT
TZOFFSETFROM:-0700
TZOFFSETTO:-0600
TZNAME:MDT
DTSTART:20250309T090000
END:DAYLIGHT
BEGIN:STANDARD
TZOFFSETFROM:-0600
TZOFFSETTO:-0700
TZNAME:MST
DTSTART:20251102T080000
END:STANDARD
BEGIN:DAYLIGHT
TZOFFSETFROM:-0700
TZOFFSETTO:-0600
TZNAME:MDT
DTSTART:20260308T090000
END:DAYLIGHT
BEGIN:STANDARD
TZOFFSETFROM:-0600
TZOFFSETTO:-0700
TZNAME:MST
DTSTART:20261101T080000
END:STANDARD
END:VTIMEZONE
BEGIN:VEVENT
DTSTART;TZID=America/Denver:20250907T100000
DTEND;TZID=America/Denver:20250907T133000
DTSTAMP:20260425T055142
CREATED:20250827T174127Z
LAST-MODIFIED:20250827T174127Z
UID:11895-1757239200-1757251800@www.lakewooducc.com
SUMMARY:Kick Off Sunday 2025
DESCRIPTION:Kick-Off Sunday is almost here! Join us on Sunday\, September 7\, where we will welcome back our music programs\, faith formation\, Youth at Church (YAC) program\, and more! There will be music\, fun\, and good food! We will celebrate Kickoff Sunday with our annual potluck lunch following the service. If you would like to bring a dish\, please bring it in by 10:00 am with a list of ingredients. That lets us get set up while you enjoy community time before service! We will have the oven on WARM if your dish needs to stay warm\, but not high enough to actually cook your dish.  As always\, Lakewood UCC is a nut-free facility.
URL:https://www.lakewooducc.com/event/kick-off-sunday-2025/
END:VEVENT
END:VCALENDAR