BEGIN:VCALENDAR
VERSION:2.0
PRODID:-//Lakewood UCC - ECPv6.15.13//NONSGML v1.0//EN
CALSCALE:GREGORIAN
METHOD:PUBLISH
X-ORIGINAL-URL:https://www.lakewooducc.com
X-WR-CALDESC:Events for Lakewood UCC
REFRESH-INTERVAL;VALUE=DURATION:PT1H
X-Robots-Tag:noindex
X-PUBLISHED-TTL:PT1H
BEGIN:VTIMEZONE
TZID:America/Denver
BEGIN:DAYLIGHT
TZOFFSETFROM:-0700
TZOFFSETTO:-0600
TZNAME:MDT
DTSTART:20210314T090000
END:DAYLIGHT
BEGIN:STANDARD
TZOFFSETFROM:-0600
TZOFFSETTO:-0700
TZNAME:MST
DTSTART:20211107T080000
END:STANDARD
BEGIN:DAYLIGHT
TZOFFSETFROM:-0700
TZOFFSETTO:-0600
TZNAME:MDT
DTSTART:20220313T090000
END:DAYLIGHT
BEGIN:STANDARD
TZOFFSETFROM:-0600
TZOFFSETTO:-0700
TZNAME:MST
DTSTART:20221106T080000
END:STANDARD
BEGIN:DAYLIGHT
TZOFFSETFROM:-0700
TZOFFSETTO:-0600
TZNAME:MDT
DTSTART:20230312T090000
END:DAYLIGHT
BEGIN:STANDARD
TZOFFSETFROM:-0600
TZOFFSETTO:-0700
TZNAME:MST
DTSTART:20231105T080000
END:STANDARD
END:VTIMEZONE
BEGIN:VEVENT
DTSTART;TZID=America/Denver:20220325T190000
DTEND;TZID=America/Denver:20220325T203000
DTSTAMP:20260422T104357
CREATED:20220322T154032Z
LAST-MODIFIED:20220322T154032Z
UID:9237-1648234800-1648240200@www.lakewooducc.com
SUMMARY:Negro Spirituals\, Worship\, and Anti-Racism at Lakewood UCC
DESCRIPTION:The Spirituals we sing on Sunday morning are the sacred “songs first sung by enslaved Africans in America in the 18th and 19th centuries. Spirituals uplift in times of crisis\, heal\, comfort\, inspire and instill hopes and dreams\, thereby transforming individuals\, communities\, and whole societies”.\nPlease join the Board of Congregational Care in welcoming Dr. Art Jones for a presentation on the history\, function\, meaning\, and contemporary use of Spirituals in worship. He is currently Professor Emeritus of Music\, Culture\, and Psychology at the University of Denver and is the founder of the Spirituals Project (now affiliated with the Lamont School of Music at DU). The Board welcomes Dr. Jones as part of our anti-racist work at Lakewood UCC. His experience and perspective will assist our congregation in understanding the roots\, meaning\, and social justice themes of the spirituals we sing in worship. Spirituals are more than praise for the Divine and knowing their history will offer insights into ways enslaved people have employed singing as liberation\, humanization\, and connection to God.\nDr. Jones’ interactive presentation (including singing) is on March 25th\, 7:00-8:30 in the church sanctuary. Because the session involves questions\, slides\, and singing\, face-to-face is preferred\, but live streaming is also available on our YouTube Channel HERE. Please join us for a lively and informative presentation that will add meaning and context to the Spirituals we sing during Sunday worship.
URL:https://www.lakewooducc.com/event/negro-spirituals-worship-and-anti-racism-at-lakewood-ucc/
END:VEVENT
END:VCALENDAR