BEGIN:VCALENDAR
VERSION:2.0
PRODID:-//Lakewood UCC - ECPv6.15.13//NONSGML v1.0//EN
CALSCALE:GREGORIAN
METHOD:PUBLISH
X-WR-CALNAME:Lakewood UCC
X-ORIGINAL-URL:https://www.lakewooducc.com
X-WR-CALDESC:Events for Lakewood UCC
REFRESH-INTERVAL;VALUE=DURATION:PT1H
X-Robots-Tag:noindex
X-PUBLISHED-TTL:PT1H
BEGIN:VTIMEZONE
TZID:America/Denver
BEGIN:DAYLIGHT
TZOFFSETFROM:-0700
TZOFFSETTO:-0600
TZNAME:MDT
DTSTART:20210314T090000
END:DAYLIGHT
BEGIN:STANDARD
TZOFFSETFROM:-0600
TZOFFSETTO:-0700
TZNAME:MST
DTSTART:20211107T080000
END:STANDARD
BEGIN:DAYLIGHT
TZOFFSETFROM:-0700
TZOFFSETTO:-0600
TZNAME:MDT
DTSTART:20220313T090000
END:DAYLIGHT
BEGIN:STANDARD
TZOFFSETFROM:-0600
TZOFFSETTO:-0700
TZNAME:MST
DTSTART:20221106T080000
END:STANDARD
BEGIN:DAYLIGHT
TZOFFSETFROM:-0700
TZOFFSETTO:-0600
TZNAME:MDT
DTSTART:20230312T090000
END:DAYLIGHT
BEGIN:STANDARD
TZOFFSETFROM:-0600
TZOFFSETTO:-0700
TZNAME:MST
DTSTART:20231105T080000
END:STANDARD
END:VTIMEZONE
BEGIN:VEVENT
DTSTART;TZID=America/Denver:20220313T113000
DTEND;TZID=America/Denver:20220313T123000
DTSTAMP:20260425T105944
CREATED:20220310T032558Z
LAST-MODIFIED:20220310T032558Z
UID:9223-1647171000-1647174600@www.lakewooducc.com
SUMMARY:New Member Inquirers' Gatherings
DESCRIPTION:Are you new to Lakewood UCC? Have you been around a while but are wanting to find out more about getting more involved? Do you have questions about what being a member of Lakewood UCC means? Please join us for a New Member Inquirers’ Gathering in March! We will gather following worship\, in person\, from 11:30 am-1:00 pm on Sunday\, March 13. Lunch will be provided. Childcare is available. We will also gather via zoom on Sunday\, March 20\, at 2:00 pm for any who prefer zoom. Our purpose is to answer questions\, share our faith journeys\, learn about Lakewood UCC\, and about the United Church of Christ. If you would like to attend\, please email Pastor Curt at curt@lakewooducc.com
URL:https://www.lakewooducc.com/event/new-member-inquirers-gatherings/
END:VEVENT
END:VCALENDAR