BEGIN:VCALENDAR
VERSION:2.0
PRODID:-//Lakewood UCC - ECPv6.15.13//NONSGML v1.0//EN
CALSCALE:GREGORIAN
METHOD:PUBLISH
X-ORIGINAL-URL:https://www.lakewooducc.com
X-WR-CALDESC:Events for Lakewood UCC
REFRESH-INTERVAL;VALUE=DURATION:PT1H
X-Robots-Tag:noindex
X-PUBLISHED-TTL:PT1H
BEGIN:VTIMEZONE
TZID:America/Denver
BEGIN:DAYLIGHT
TZOFFSETFROM:-0700
TZOFFSETTO:-0600
TZNAME:MDT
DTSTART:20210314T090000
END:DAYLIGHT
BEGIN:STANDARD
TZOFFSETFROM:-0600
TZOFFSETTO:-0700
TZNAME:MST
DTSTART:20211107T080000
END:STANDARD
BEGIN:DAYLIGHT
TZOFFSETFROM:-0700
TZOFFSETTO:-0600
TZNAME:MDT
DTSTART:20220313T090000
END:DAYLIGHT
BEGIN:STANDARD
TZOFFSETFROM:-0600
TZOFFSETTO:-0700
TZNAME:MST
DTSTART:20221106T080000
END:STANDARD
BEGIN:DAYLIGHT
TZOFFSETFROM:-0700
TZOFFSETTO:-0600
TZNAME:MDT
DTSTART:20230312T090000
END:DAYLIGHT
BEGIN:STANDARD
TZOFFSETFROM:-0600
TZOFFSETTO:-0700
TZNAME:MST
DTSTART:20231105T080000
END:STANDARD
END:VTIMEZONE
BEGIN:VEVENT
DTSTART;TZID=America/Denver:20220306T113000
DTEND;TZID=America/Denver:20220306T123000
DTSTAMP:20260424T022735
CREATED:20220223T185544Z
LAST-MODIFIED:20220223T185544Z
UID:9176-1646566200-1646569800@www.lakewooducc.com
SUMMARY:Fellowship Is Back/ Celebration for Leo!
DESCRIPTION:We will resume Fellowship on Sunday\, March 6\, when we celebrate the arrival of Leo\, Mollie and Andrew’s new baby boy\, in the Fellowship Hall.  We will have cake\, coffee\, and lemonade and be able to sit at tables to enjoy one another.  Since we will be eating indoors\, you are not required to wear masks.  If this might be an uncomfortable situation\, we definitely understand your desire to avoid this gathering.  We will continue with a simple Fellowship following worship in March and beyond.  In order to seat folks\, however\, we need a couple of volunteers to set up tables and chairs.  If you can volunteer for this Sunday task or wish to join the Committee\, please contact Karen Huff – karenmuff@comcast.net or Sandi Little – slittleesq@gmail.com.  We look forward to being together again.
URL:https://www.lakewooducc.com/event/fellowship-is-back-celebration-for-leo/
END:VEVENT
BEGIN:VEVENT
DTSTART;TZID=America/Denver:20220306T140000
DTEND;TZID=America/Denver:20220306T150000
DTSTAMP:20260424T022735
CREATED:20220222T164432Z
LAST-MODIFIED:20220225T204336Z
UID:9168-1646575200-1646578800@www.lakewooducc.com
SUMMARY:International Dark-Sky Presentation
DESCRIPTION: \n\nIn support of Earth Hour please join us for a Zoom presentation by a member of the International Dark-sky Association at 2 p.m. on Sunday\, March 6\, 2022.\n\n \n\nEarth Hour which is March 26th this year; this is the night when the world tries to go dark for one hour – it is very dramatic and rewarding to participate in. The object is to demonstrate what benefits may be derived from reducing light pollution.\n\n \n\n“Night hides the world and reveals the universe.” Persian proverb\n\n \n\nPlease contact C4C.Charlie@gmail in order to receive the Zoom link which will be sent out Wed.\, 3/02/22.
URL:https://www.lakewooducc.com/event/international-dark-sky-presentation/
END:VEVENT
END:VCALENDAR