BEGIN:VCALENDAR
VERSION:2.0
PRODID:-//Lakewood UCC - ECPv6.15.13//NONSGML v1.0//EN
CALSCALE:GREGORIAN
METHOD:PUBLISH
X-WR-CALNAME:Lakewood UCC
X-ORIGINAL-URL:https://www.lakewooducc.com
X-WR-CALDESC:Events for Lakewood UCC
REFRESH-INTERVAL;VALUE=DURATION:PT1H
X-Robots-Tag:noindex
X-PUBLISHED-TTL:PT1H
BEGIN:VTIMEZONE
TZID:America/Denver
BEGIN:DAYLIGHT
TZOFFSETFROM:-0700
TZOFFSETTO:-0600
TZNAME:MDT
DTSTART:20210314T090000
END:DAYLIGHT
BEGIN:STANDARD
TZOFFSETFROM:-0600
TZOFFSETTO:-0700
TZNAME:MST
DTSTART:20211107T080000
END:STANDARD
BEGIN:DAYLIGHT
TZOFFSETFROM:-0700
TZOFFSETTO:-0600
TZNAME:MDT
DTSTART:20220313T090000
END:DAYLIGHT
BEGIN:STANDARD
TZOFFSETFROM:-0600
TZOFFSETTO:-0700
TZNAME:MST
DTSTART:20221106T080000
END:STANDARD
BEGIN:DAYLIGHT
TZOFFSETFROM:-0700
TZOFFSETTO:-0600
TZNAME:MDT
DTSTART:20230312T090000
END:DAYLIGHT
BEGIN:STANDARD
TZOFFSETFROM:-0600
TZOFFSETTO:-0700
TZNAME:MST
DTSTART:20231105T080000
END:STANDARD
END:VTIMEZONE
BEGIN:VEVENT
DTSTART;TZID=America/Denver:20220302T110000
DTEND;TZID=America/Denver:20220302T130000
DTSTAMP:20260423T042342
CREATED:20220301T152315Z
LAST-MODIFIED:20220301T152315Z
UID:9199-1646218800-1646226000@www.lakewooducc.com
SUMMARY:Ashes-2-Go 2022
DESCRIPTION:Ashes to Go – from 11:00 am-1:00 pm:\nSwing by the westside church parking lot to receive your ashes. They will be available to take home with you or you can receive the imposition of ashes on your forehead or hand. Please be in touch with Rev. Mollie if you’d like to receive ashes at another time.
URL:https://www.lakewooducc.com/event/ashes-2-go-2022/
END:VEVENT
BEGIN:VEVENT
DTSTART;TZID=America/Denver:20220302T183000
DTEND;TZID=America/Denver:20220302T193000
DTSTAMP:20260423T042342
CREATED:20220301T152218Z
LAST-MODIFIED:20220301T152218Z
UID:9195-1646245800-1646249400@www.lakewooducc.com
SUMMARY:
DESCRIPTION:This year our theme for Lent will be Resurrecting Jesus. Each week during Lent we’ll focus on a different aspect of our understanding of who Jesus is to us. Drawing on Diana Butler Bass’s book\, Freeing Jesus: Rediscovering Jesus as Friend\, Teacher\, Savior\, Lord\, Way\, and Presence\, we’ll explore the various facets and descriptions of Jesus. On Tuesday evenings during Lent\, we’ll meet via Zoom to discuss Bass’s book and how we experience Jesus. Additionally\, we are working on plans to have an indoor Labyrinth made available as well as other opportunities to delve more deeply into the questions Jesus asks his disciples: “Who do others say that I am?” And “who do you say that I am?”\n\nAsh Wednesday Service – 6:30 pm\nJoin us in person or online for our Ash Wednesday service with Communion and the Imposition of Ashes. Ash Wednesday is the start of Lent\, with the physical reminder that we have come from ash and to ash we will return. Join us for this meaningful service. Communion elements will be provided for this service\, childcare will be available.  
URL:https://www.lakewooducc.com/event/9195/
END:VEVENT
END:VCALENDAR