BEGIN:VCALENDAR
VERSION:2.0
PRODID:-//Lakewood UCC - ECPv6.15.13//NONSGML v1.0//EN
CALSCALE:GREGORIAN
METHOD:PUBLISH
X-WR-CALNAME:Lakewood UCC
X-ORIGINAL-URL:https://www.lakewooducc.com
X-WR-CALDESC:Events for Lakewood UCC
REFRESH-INTERVAL;VALUE=DURATION:PT1H
X-Robots-Tag:noindex
X-PUBLISHED-TTL:PT1H
BEGIN:VTIMEZONE
TZID:America/Denver
BEGIN:DAYLIGHT
TZOFFSETFROM:-0700
TZOFFSETTO:-0600
TZNAME:MDT
DTSTART:20210314T090000
END:DAYLIGHT
BEGIN:STANDARD
TZOFFSETFROM:-0600
TZOFFSETTO:-0700
TZNAME:MST
DTSTART:20211107T080000
END:STANDARD
BEGIN:DAYLIGHT
TZOFFSETFROM:-0700
TZOFFSETTO:-0600
TZNAME:MDT
DTSTART:20220313T090000
END:DAYLIGHT
BEGIN:STANDARD
TZOFFSETFROM:-0600
TZOFFSETTO:-0700
TZNAME:MST
DTSTART:20221106T080000
END:STANDARD
BEGIN:DAYLIGHT
TZOFFSETFROM:-0700
TZOFFSETTO:-0600
TZNAME:MDT
DTSTART:20230312T090000
END:DAYLIGHT
BEGIN:STANDARD
TZOFFSETFROM:-0600
TZOFFSETTO:-0700
TZNAME:MST
DTSTART:20231105T080000
END:STANDARD
END:VTIMEZONE
BEGIN:VEVENT
DTSTART;TZID=America/Denver:20220220T130000
DTEND;TZID=America/Denver:20220220T140000
DTSTAMP:20260424T184929
CREATED:20220209T172729Z
LAST-MODIFIED:20220209T172729Z
UID:9141-1645362000-1645365600@www.lakewooducc.com
SUMMARY:Lakewood UCC Book Group
DESCRIPTION:The Lakewood UCC Book Group will be meeting on February 20\, 2021\, at 1:00 pm\, over Zoom. We will discuss Fifty Words for Rain by Asha Lemmie. “A sweeping\, heartrending coming-of-age novel about a young woman’s quest for acceptance in post–WorldWar II Japan.” – Goodreads. Carolyn will send you the link. If you would like to join the Group\, contact Linda Andreen at 720-257-4275.
URL:https://www.lakewooducc.com/event/lakewood-ucc-book-group-22/
END:VEVENT
END:VCALENDAR