BEGIN:VCALENDAR
VERSION:2.0
PRODID:-//Lakewood UCC - ECPv6.15.13//NONSGML v1.0//EN
CALSCALE:GREGORIAN
METHOD:PUBLISH
X-ORIGINAL-URL:https://www.lakewooducc.com
X-WR-CALDESC:Events for Lakewood UCC
REFRESH-INTERVAL;VALUE=DURATION:PT1H
X-Robots-Tag:noindex
X-PUBLISHED-TTL:PT1H
BEGIN:VTIMEZONE
TZID:America/Denver
BEGIN:DAYLIGHT
TZOFFSETFROM:-0700
TZOFFSETTO:-0600
TZNAME:MDT
DTSTART:20180311T090000
END:DAYLIGHT
BEGIN:STANDARD
TZOFFSETFROM:-0600
TZOFFSETTO:-0700
TZNAME:MST
DTSTART:20181104T080000
END:STANDARD
BEGIN:DAYLIGHT
TZOFFSETFROM:-0700
TZOFFSETTO:-0600
TZNAME:MDT
DTSTART:20190310T090000
END:DAYLIGHT
BEGIN:STANDARD
TZOFFSETFROM:-0600
TZOFFSETTO:-0700
TZNAME:MST
DTSTART:20191103T080000
END:STANDARD
BEGIN:DAYLIGHT
TZOFFSETFROM:-0700
TZOFFSETTO:-0600
TZNAME:MDT
DTSTART:20200308T090000
END:DAYLIGHT
BEGIN:STANDARD
TZOFFSETFROM:-0600
TZOFFSETTO:-0700
TZNAME:MST
DTSTART:20201101T080000
END:STANDARD
END:VTIMEZONE
BEGIN:VEVENT
DTSTART;TZID=America/Denver:20190119T090000
DTEND;TZID=America/Denver:20190119T130000
DTSTAMP:20260422T184923
CREATED:20190115T181542Z
LAST-MODIFIED:20190116T174525Z
UID:5876-1547888400-1547902800@www.lakewooducc.com
SUMMARY:Womxn's March
DESCRIPTION:No matter who you are or how you identify\, we all have a reason to march.\n\nI urge all of us to reflect on why we are going\, and how we are called to join and support each other in this effort to “do better”.  All of us can help – we can share the word to everyone we know that they are welcome to join Lakewood UCC in marching\, we can meet the morning of 1/19/19 to join in prayer for guidance and support\, we can offer help to the march organizers\, we can help by providing a juice or coffee to get us going\, and we can march!\n\nWe will meet at the church on Saturday 1/19 at 9:00-9:15. The March begins at 10:30 at Civic Center Park and we will meet at the big red chair at the Denver Library. We need assistance with carpools\, coffee\, and banners/balloons. If you can help\, please contact Sue Johns or Matt Teeuwen.\n\n \n\nThe theme of the event is Listen. Unite. Act.  For more information (including why its title is Womxn’s March)\, please visit https://www.womensmarchdenver.org/
URL:https://www.lakewooducc.com/event/womxns-march/
LOCATION:Lakewood United Church of Christ\, 100 Carr Street\, Lakewood\, CO\, 80226\, United States
END:VEVENT
END:VCALENDAR