BEGIN:VCALENDAR
VERSION:2.0
PRODID:-//Lakewood UCC - ECPv6.15.13//NONSGML v1.0//EN
CALSCALE:GREGORIAN
METHOD:PUBLISH
X-ORIGINAL-URL:https://www.lakewooducc.com
X-WR-CALDESC:Events for Lakewood UCC
REFRESH-INTERVAL;VALUE=DURATION:PT1H
X-Robots-Tag:noindex
X-PUBLISHED-TTL:PT1H
BEGIN:VTIMEZONE
TZID:America/Denver
BEGIN:DAYLIGHT
TZOFFSETFROM:-0700
TZOFFSETTO:-0600
TZNAME:MDT
DTSTART:20180311T090000
END:DAYLIGHT
BEGIN:STANDARD
TZOFFSETFROM:-0600
TZOFFSETTO:-0700
TZNAME:MST
DTSTART:20181104T080000
END:STANDARD
BEGIN:DAYLIGHT
TZOFFSETFROM:-0700
TZOFFSETTO:-0600
TZNAME:MDT
DTSTART:20190310T090000
END:DAYLIGHT
BEGIN:STANDARD
TZOFFSETFROM:-0600
TZOFFSETTO:-0700
TZNAME:MST
DTSTART:20191103T080000
END:STANDARD
BEGIN:DAYLIGHT
TZOFFSETFROM:-0700
TZOFFSETTO:-0600
TZNAME:MDT
DTSTART:20200308T090000
END:DAYLIGHT
BEGIN:STANDARD
TZOFFSETFROM:-0600
TZOFFSETTO:-0700
TZNAME:MST
DTSTART:20201101T080000
END:STANDARD
END:VTIMEZONE
BEGIN:VEVENT
DTSTART;TZID=America/Denver:20190106T114500
DTEND;TZID=America/Denver:20190106T123000
DTSTAMP:20260422T184953
CREATED:20181221T183906Z
LAST-MODIFIED:20190102T170631Z
UID:5850-1546775100-1546777800@www.lakewooducc.com
SUMMARY:Faith Formation Spring Training
DESCRIPTION:All Faith Formation Companions (leaders) and those who are interested in becoming a Sunday Morning Faith Formation Companion are asked to attend a brief thirty-minute training on Sunday\, January 6.  We will be going over the winter and spring curriculum of Biblical and modern-day Prophets\, truth tellers\, proclaimers\, those that call out and announce\, reminding people of God’s love.
URL:https://www.lakewooducc.com/event/faith-formation-spring-training/
LOCATION:Lakewood United Church of Christ\, 100 Carr Street\, Lakewood\, CO\, 80226\, United States
END:VEVENT
END:VCALENDAR