BEGIN:VCALENDAR
VERSION:2.0
PRODID:-//Lakewood UCC - ECPv6.15.13//NONSGML v1.0//EN
CALSCALE:GREGORIAN
METHOD:PUBLISH
X-WR-CALNAME:Lakewood UCC
X-ORIGINAL-URL:https://www.lakewooducc.com
X-WR-CALDESC:Events for Lakewood UCC
REFRESH-INTERVAL;VALUE=DURATION:PT1H
X-Robots-Tag:noindex
X-PUBLISHED-TTL:PT1H
BEGIN:VTIMEZONE
TZID:America/Denver
BEGIN:DAYLIGHT
TZOFFSETFROM:-0700
TZOFFSETTO:-0600
TZNAME:MDT
DTSTART:20170312T090000
END:DAYLIGHT
BEGIN:STANDARD
TZOFFSETFROM:-0600
TZOFFSETTO:-0700
TZNAME:MST
DTSTART:20171105T080000
END:STANDARD
BEGIN:DAYLIGHT
TZOFFSETFROM:-0700
TZOFFSETTO:-0600
TZNAME:MDT
DTSTART:20180311T090000
END:DAYLIGHT
BEGIN:STANDARD
TZOFFSETFROM:-0600
TZOFFSETTO:-0700
TZNAME:MST
DTSTART:20181104T080000
END:STANDARD
BEGIN:DAYLIGHT
TZOFFSETFROM:-0700
TZOFFSETTO:-0600
TZNAME:MDT
DTSTART:20190310T090000
END:DAYLIGHT
BEGIN:STANDARD
TZOFFSETFROM:-0600
TZOFFSETTO:-0700
TZNAME:MST
DTSTART:20191103T080000
END:STANDARD
END:VTIMEZONE
BEGIN:VEVENT
DTSTART;TZID=America/Denver:20181202T090000
DTEND;TZID=America/Denver:20181202T120000
DTSTAMP:20260424T070616
CREATED:20181114T155755Z
LAST-MODIFIED:20181119T165626Z
UID:4755-1543741200-1543752000@www.lakewooducc.com
SUMMARY:Alternative Gift Market
DESCRIPTION:How about purchasing that special Christmas gift that will eclipse the joy of giving and receiving it – ‘Gifts That Give Back’. The place to get these Gifts that Give Back is at the Alternative Gift Market being held in the lobby before and after church service on December 3 and 10. Any gift that you purchase at the Alternative Gift Market will support worthy social causes with real economic and environmental impacts\, both here in Denver and across the globe. These include: AfricAid\, Church World Service\, Earth Links\, Heifer International\, SERRV\, and Women’s Bean Project (also including our local church favorite\, Incredible Edibles). To learn more\, visit the Mission\, Outreach\, and Evangelism Kiosk in the lobby. Thank you for shopping!
URL:https://www.lakewooducc.com/event/alternative-gift-market-3/
LOCATION:Lakewood United Church of Christ\, 100 Carr Street\, Lakewood\, CO\, 80226\, United States
END:VEVENT
END:VCALENDAR