BEGIN:VCALENDAR
VERSION:2.0
PRODID:-//Lakewood UCC - ECPv6.15.13//NONSGML v1.0//EN
CALSCALE:GREGORIAN
METHOD:PUBLISH
X-ORIGINAL-URL:https://www.lakewooducc.com
X-WR-CALDESC:Events for Lakewood UCC
REFRESH-INTERVAL;VALUE=DURATION:PT1H
X-Robots-Tag:noindex
X-PUBLISHED-TTL:PT1H
BEGIN:VTIMEZONE
TZID:America/Denver
BEGIN:DAYLIGHT
TZOFFSETFROM:-0700
TZOFFSETTO:-0600
TZNAME:MDT
DTSTART:20150308T090000
END:DAYLIGHT
BEGIN:STANDARD
TZOFFSETFROM:-0600
TZOFFSETTO:-0700
TZNAME:MST
DTSTART:20151101T080000
END:STANDARD
BEGIN:DAYLIGHT
TZOFFSETFROM:-0700
TZOFFSETTO:-0600
TZNAME:MDT
DTSTART:20160313T090000
END:DAYLIGHT
BEGIN:STANDARD
TZOFFSETFROM:-0600
TZOFFSETTO:-0700
TZNAME:MST
DTSTART:20161106T080000
END:STANDARD
BEGIN:DAYLIGHT
TZOFFSETFROM:-0700
TZOFFSETTO:-0600
TZNAME:MDT
DTSTART:20170312T090000
END:DAYLIGHT
BEGIN:STANDARD
TZOFFSETFROM:-0600
TZOFFSETTO:-0700
TZNAME:MST
DTSTART:20171105T080000
END:STANDARD
BEGIN:DAYLIGHT
TZOFFSETFROM:-0700
TZOFFSETTO:-0600
TZNAME:MDT
DTSTART:20180311T090000
END:DAYLIGHT
BEGIN:STANDARD
TZOFFSETFROM:-0600
TZOFFSETTO:-0700
TZNAME:MST
DTSTART:20181104T080000
END:STANDARD
END:VTIMEZONE
BEGIN:VEVENT
DTSTART;TZID=America/Denver:20160922T190000
DTEND;TZID=America/Denver:20170601T200000
DTSTAMP:20260425T152714
CREATED:20160122T190202Z
LAST-MODIFIED:20170526T162400Z
UID:2652-1474570800-1496347200@www.lakewooducc.com
SUMMARY:Choir Practice
DESCRIPTION:
URL:https://www.lakewooducc.com/event/choir-practice/
LOCATION:Lakewood United Church of Christ\, 100 Carr Street\, Lakewood\, CO\, 80226\, United States
END:VEVENT
BEGIN:VEVENT
DTSTART;TZID=America/Denver:20170521T101500
DTEND;TZID=America/Denver:20170521T120000
DTSTAMP:20260425T152714
CREATED:20160103T184957Z
LAST-MODIFIED:20170510T190005Z
UID:2809-1495361700-1495368000@www.lakewooducc.com
SUMMARY:Confirmation Sunday
DESCRIPTION:Confirmation Sunday is May 21st. We are excited to have 6 confirmands this year. They have been learning\, reading\, and studying the Christian faith with Pastor Curt all year. Now they are ready to officially join the church and to affirm the promises that were made when they were baptized. Plan on staying after worship for an out-of-this world Confirmation Reception in the fellowship hall.
URL:https://www.lakewooducc.com/event/confirmation-sunday/
LOCATION:Lakewood United Church of Christ\, 100 Carr Street\, Lakewood\, CO\, 80226\, United States
END:VEVENT
END:VCALENDAR