BEGIN:VCALENDAR
VERSION:2.0
PRODID:-//Lakewood UCC - ECPv6.15.13//NONSGML v1.0//EN
CALSCALE:GREGORIAN
METHOD:PUBLISH
X-ORIGINAL-URL:https://www.lakewooducc.com
X-WR-CALDESC:Events for Lakewood UCC
REFRESH-INTERVAL;VALUE=DURATION:PT1H
X-Robots-Tag:noindex
X-PUBLISHED-TTL:PT1H
BEGIN:VTIMEZONE
TZID:America/Denver
BEGIN:DAYLIGHT
TZOFFSETFROM:-0700
TZOFFSETTO:-0600
TZNAME:MDT
DTSTART:20150308T090000
END:DAYLIGHT
BEGIN:STANDARD
TZOFFSETFROM:-0600
TZOFFSETTO:-0700
TZNAME:MST
DTSTART:20151101T080000
END:STANDARD
BEGIN:DAYLIGHT
TZOFFSETFROM:-0700
TZOFFSETTO:-0600
TZNAME:MDT
DTSTART:20160313T090000
END:DAYLIGHT
BEGIN:STANDARD
TZOFFSETFROM:-0600
TZOFFSETTO:-0700
TZNAME:MST
DTSTART:20161106T080000
END:STANDARD
BEGIN:DAYLIGHT
TZOFFSETFROM:-0700
TZOFFSETTO:-0600
TZNAME:MDT
DTSTART:20170312T090000
END:DAYLIGHT
BEGIN:STANDARD
TZOFFSETFROM:-0600
TZOFFSETTO:-0700
TZNAME:MST
DTSTART:20171105T080000
END:STANDARD
BEGIN:DAYLIGHT
TZOFFSETFROM:-0700
TZOFFSETTO:-0600
TZNAME:MDT
DTSTART:20180311T090000
END:DAYLIGHT
BEGIN:STANDARD
TZOFFSETFROM:-0600
TZOFFSETTO:-0700
TZNAME:MST
DTSTART:20181104T080000
END:STANDARD
END:VTIMEZONE
BEGIN:VEVENT
DTSTART;TZID=America/Denver:20160922T190000
DTEND;TZID=America/Denver:20170601T200000
DTSTAMP:20260425T135919
CREATED:20160122T190202Z
LAST-MODIFIED:20170526T162400Z
UID:2652-1474570800-1496347200@www.lakewooducc.com
SUMMARY:Choir Practice
DESCRIPTION:
URL:https://www.lakewooducc.com/event/choir-practice/
LOCATION:Lakewood United Church of Christ\, 100 Carr Street\, Lakewood\, CO\, 80226\, United States
END:VEVENT
BEGIN:VEVENT
DTSTART;TZID=America/Denver:20170430T113000
DTEND;TZID=America/Denver:20170430T130000
DTSTAMP:20260425T135919
CREATED:20160103T184918Z
LAST-MODIFIED:20161003T174942Z
UID:2807-1493551800-1493557200@www.lakewooducc.com
SUMMARY:Confirmation Session 12
DESCRIPTION:
URL:https://www.lakewooducc.com/event/confirmation-session-12/
LOCATION:Lakewood United Church of Christ\, 100 Carr Street\, Lakewood\, CO\, 80226\, United States
END:VEVENT
BEGIN:VEVENT
DTSTART;TZID=America/Denver:20170430T113000
DTEND;TZID=America/Denver:20170430T130000
DTSTAMP:20260425T135919
CREATED:20170327T165747Z
LAST-MODIFIED:20170327T165822Z
UID:3816-1493551800-1493557200@www.lakewooducc.com
SUMMARY:Climate Change: What we Know\, What's Changing\, What we Can Do
DESCRIPTION:Special Guest Speaker: Mark Miesch PhD\, Staff Scientist\, National Center for Atmospheric Research\n\nIs human activity changing Earth’s climate? If so\, what can and should we do about it? These are questions that we all must consider seriously\, as responsible citizens\, as loving parents\, and as caretakers of our planet. We will survey the latest evidence on how and why our world is changing and I hope you will come with any questions and concerns you may have (including skepticism! Please let’s have the discussion). We are all in this together. To face this challenge we will need your initiative\, your skills\, and your wisdom.\n\n 
URL:https://www.lakewooducc.com/event/climate-change-what-we-know-whats-changing-what-we-can-do/
LOCATION:Lakewood United Church of Christ\, 100 Carr Street\, Lakewood\, CO\, 80226\, United States
END:VEVENT
BEGIN:VEVENT
DTSTART;TZID=America/Denver:20170430T113000
DTEND;TZID=America/Denver:20170430T130000
DTSTAMP:20260425T135919
CREATED:20170401T163521Z
LAST-MODIFIED:20170421T163653Z
UID:3979-1493551800-1493557200@www.lakewooducc.com
SUMMARY:Ministry Expansion Campaign Information Meeting
DESCRIPTION:Following church on April 30\, we will be hosting an informational meeting on the Ministry Expansion Campaign. This will be your chance to ask any questions you may have about the campaign. Bring your questions and your enthusiasm!\n\n 
URL:https://www.lakewooducc.com/event/ministry-expansion-campaign-information-meeting/
LOCATION:Lakewood United Church of Christ\, 100 Carr Street\, Lakewood\, CO\, 80226\, United States
END:VEVENT
END:VCALENDAR