BEGIN:VCALENDAR
VERSION:2.0
PRODID:-//Lakewood UCC - ECPv6.15.13//NONSGML v1.0//EN
CALSCALE:GREGORIAN
METHOD:PUBLISH
X-ORIGINAL-URL:https://www.lakewooducc.com
X-WR-CALDESC:Events for Lakewood UCC
REFRESH-INTERVAL;VALUE=DURATION:PT1H
X-Robots-Tag:noindex
X-PUBLISHED-TTL:PT1H
BEGIN:VTIMEZONE
TZID:America/Denver
BEGIN:DAYLIGHT
TZOFFSETFROM:-0700
TZOFFSETTO:-0600
TZNAME:MDT
DTSTART:20150308T090000
END:DAYLIGHT
BEGIN:STANDARD
TZOFFSETFROM:-0600
TZOFFSETTO:-0700
TZNAME:MST
DTSTART:20151101T080000
END:STANDARD
BEGIN:DAYLIGHT
TZOFFSETFROM:-0700
TZOFFSETTO:-0600
TZNAME:MDT
DTSTART:20160313T090000
END:DAYLIGHT
BEGIN:STANDARD
TZOFFSETFROM:-0600
TZOFFSETTO:-0700
TZNAME:MST
DTSTART:20161106T080000
END:STANDARD
BEGIN:DAYLIGHT
TZOFFSETFROM:-0700
TZOFFSETTO:-0600
TZNAME:MDT
DTSTART:20170312T090000
END:DAYLIGHT
BEGIN:STANDARD
TZOFFSETFROM:-0600
TZOFFSETTO:-0700
TZNAME:MST
DTSTART:20171105T080000
END:STANDARD
BEGIN:DAYLIGHT
TZOFFSETFROM:-0700
TZOFFSETTO:-0600
TZNAME:MDT
DTSTART:20180311T090000
END:DAYLIGHT
BEGIN:STANDARD
TZOFFSETFROM:-0600
TZOFFSETTO:-0700
TZNAME:MST
DTSTART:20181104T080000
END:STANDARD
END:VTIMEZONE
BEGIN:VEVENT
DTSTART;TZID=America/Denver:20160922T190000
DTEND;TZID=America/Denver:20170601T200000
DTSTAMP:20260425T071435
CREATED:20160122T190202Z
LAST-MODIFIED:20170526T162400Z
UID:2652-1474570800-1496347200@www.lakewooducc.com
SUMMARY:Choir Practice
DESCRIPTION:
URL:https://www.lakewooducc.com/event/choir-practice/
LOCATION:Lakewood United Church of Christ\, 100 Carr Street\, Lakewood\, CO\, 80226\, United States
END:VEVENT
BEGIN:VEVENT
DTSTART;TZID=America/Denver:20170226T113000
DTEND;TZID=America/Denver:20170226T123000
DTSTAMP:20260425T071435
CREATED:20160928T165934Z
LAST-MODIFIED:20170131T184341Z
UID:2633-1488108600-1488112200@www.lakewooducc.com
SUMMARY:New Member Inquirers
DESCRIPTION:Want to find out more about what it means to become a member of Lakewood UCC? Then come to a special luncheon after worship at which Pastor Curt will go through the ins and outs of joining the church and answer all your questions. Coming doesn’t obligate you to anything\, and childcare will be provided upon request. RSVP to Curt Preston.\n\n 
URL:https://www.lakewooducc.com/event/new-member-inquirers-2/
LOCATION:Lakewood United Church of Christ\, 100 Carr Street\, Lakewood\, CO\, 80226\, United States
END:VEVENT
BEGIN:VEVENT
DTSTART;TZID=America/Denver:20170226T113000
DTEND;TZID=America/Denver:20170226T133000
DTSTAMP:20260425T071435
CREATED:20170214T192711Z
LAST-MODIFIED:20170214T192711Z
UID:3714-1488108600-1488115800@www.lakewooducc.com
SUMMARY:Intergenerational Game Day
DESCRIPTION:Intergenerational Game Day is a chance for kids\, teens\, and adults of all ages to get together and play\, because playing is good for the soul! We will have a wide variety of games from 21 and Apples to Apples (both card games) to minute-to-win-it style games as crazy as knocking over bowling pins with a swinging ball attached to your head. Yep\, that crazy. Come enjoy pizza\, salads\, drinks\, and lots of fun and laughter! Contact Logan Bennett for more information.
URL:https://www.lakewooducc.com/event/intergenerational-game-day/
LOCATION:Lakewood United Church of Christ\, 100 Carr Street\, Lakewood\, CO\, 80226\, United States
END:VEVENT
BEGIN:VEVENT
DTSTART;TZID=America/Denver:20170226T180000
DTEND;TZID=America/Denver:20170226T200000
DTSTAMP:20260425T071435
CREATED:20160103T182535Z
LAST-MODIFIED:20161003T172616Z
UID:2788-1488132000-1488139200@www.lakewooducc.com
SUMMARY:Confirmation Session 8
DESCRIPTION:
URL:https://www.lakewooducc.com/event/confirmation-session-8/
LOCATION:Lakewood United Church of Christ\, 100 Carr Street\, Lakewood\, CO\, 80226\, United States
END:VEVENT
END:VCALENDAR